BEGIN:VCALENDAR
VERSION:2.0
PRODID:-//Go To Girl Of Ashland - ECPv6.15.20//NONSGML v1.0//EN
CALSCALE:GREGORIAN
METHOD:PUBLISH
X-WR-CALNAME:Go To Girl Of Ashland
X-ORIGINAL-URL:https://gotogirlashland.com
X-WR-CALDESC:Events for Go To Girl Of Ashland
REFRESH-INTERVAL;VALUE=DURATION:PT1H
X-Robots-Tag:noindex
X-PUBLISHED-TTL:PT1H
BEGIN:VTIMEZONE
TZID:America/New_York
BEGIN:DAYLIGHT
TZOFFSETFROM:-0500
TZOFFSETTO:-0400
TZNAME:EDT
DTSTART:20250309T070000
END:DAYLIGHT
BEGIN:STANDARD
TZOFFSETFROM:-0400
TZOFFSETTO:-0500
TZNAME:EST
DTSTART:20251102T060000
END:STANDARD
BEGIN:DAYLIGHT
TZOFFSETFROM:-0500
TZOFFSETTO:-0400
TZNAME:EDT
DTSTART:20260308T070000
END:DAYLIGHT
BEGIN:STANDARD
TZOFFSETFROM:-0400
TZOFFSETTO:-0500
TZNAME:EST
DTSTART:20261101T060000
END:STANDARD
BEGIN:DAYLIGHT
TZOFFSETFROM:-0500
TZOFFSETTO:-0400
TZNAME:EDT
DTSTART:20270314T070000
END:DAYLIGHT
BEGIN:STANDARD
TZOFFSETFROM:-0400
TZOFFSETTO:-0500
TZNAME:EST
DTSTART:20271107T060000
END:STANDARD
END:VTIMEZONE
BEGIN:VEVENT
DTSTART;TZID=America/New_York:20260206T100000
DTEND;TZID=America/New_York:20260206T110000
DTSTAMP:20260419T093959
CREATED:20260121T042030Z
LAST-MODIFIED:20260202T005232Z
UID:10004233-1770372000-1770375600@gotogirlashland.com
SUMMARY:Puzzle Club
DESCRIPTION:Whether it’s jigsaws\, crosswords or Sudoku\, come and join us for some puzzling fun. \n\nEvent Page
URL:https://gotogirlashland.com/event/puzzle-club-020626/
LOCATION:Ashland Public Library
CATEGORIES:Community,Library
ATTACH;FMTTYPE=image/png:https://gotogirlashland.com/wp-content/uploads/2026/01/Untitled-design-17.png
END:VEVENT
BEGIN:VEVENT
DTSTART;TZID=America/New_York:20260206T190000
DTEND;TZID=America/New_York:20260206T203000
DTSTAMP:20260419T093959
CREATED:20260121T042842Z
LAST-MODIFIED:20260121T043023Z
UID:10004234-1770404400-1770409800@gotogirlashland.com
SUMMARY:Owl Prowl
DESCRIPTION:Owls are out and about looking for mates and getting ready to nest! Come for a night walk to see if we can hear or spot these beautiful birds! Bring a headlamp/flashlight. @ Byers Woods. \n\nEvent Page
URL:https://gotogirlashland.com/event/owl-prowl-020626/
LOCATION:Byers Woods\, 675 County Road 1754\, Ashland\, OH\, 44805\, United States
CATEGORIES:Community,Conservation
ATTACH;FMTTYPE=image/jpeg:https://gotogirlashland.com/wp-content/uploads/2026/01/615445003_1150880370592630_9024267016258398017_n.jpg
END:VEVENT
BEGIN:VEVENT
DTSTART;TZID=America/New_York:20260206T193000
DTEND;TZID=America/New_York:20260206T223000
DTSTAMP:20260419T093959
CREATED:20260121T043946Z
LAST-MODIFIED:20260121T044256Z
UID:10004235-1770406200-1770417000@gotogirlashland.com
SUMMARY:Newlywed Game at the Castle
DESCRIPTION:Enjoy a delicious four-course dinner\, sip your favorite drinks from the full bar\, and laugh along as couples go head-to-head to see who truly knows their partner best. \n\nTickets & Info
URL:https://gotogirlashland.com/event/newlywed-game-at-the-castle-020626/
LOCATION:Landoll’s Mohican Castle\, 561 Township Road 3352\, Loudonville\, 44842\, United States
CATEGORIES:Community,Food & Drink,Games,Holiday,Live Entertainment
ATTACH;FMTTYPE=image/png:https://gotogirlashland.com/wp-content/uploads/2026/01/Untitled-design-19.png
END:VEVENT
BEGIN:VEVENT
DTSTART;TZID=America/New_York:20260206T210000
DTEND;TZID=America/New_York:20260206T235900
DTSTAMP:20260419T093959
CREATED:20260115T165308Z
LAST-MODIFIED:20260115T165358Z
UID:10004222-1770411600-1770422340@gotogirlashland.com
SUMMARY:Kim & Dougie with Ed
DESCRIPTION:Local live music with Kim & Dougie. Country\, rock\, pop\, and hip hop/rap. Kash Co. PourHouse in Ashland Ohio
URL:https://gotogirlashland.com/event/kim-dougie-with-ed-020626/
LOCATION:Kash Co. PourHouse (always 21+)\, 155 West Main Street\, Ashland\, OH\, 44805\, United States
CATEGORIES:Live Entertainment,Music,Nightlife
ATTACH;FMTTYPE=image/jpeg:https://gotogirlashland.com/wp-content/uploads/2024/10/Kim-and-Dougie.jpg
END:VEVENT
BEGIN:VEVENT
DTSTART;TZID=America/New_York:20260206T220000
DTEND;TZID=America/New_York:20260206T220000
DTSTAMP:20260419T093959
CREATED:20260115T155942Z
LAST-MODIFIED:20260115T160013Z
UID:10004213-1770415200-1770415200@gotogirlashland.com
SUMMARY:Karaoke at Bullshooters
DESCRIPTION:Karaoke at Bullshooters on Fridays and Saturdays\, 10pm-2am
URL:https://gotogirlashland.com/event/karaoke-at-bullshooters-020626/
LOCATION:Bullshooters\, 35 East Main Street\, Ashland\, OH\, 44805\, United States
CATEGORIES:Karaoke,Nightlife
ATTACH;FMTTYPE=image/jpeg:https://gotogirlashland.com/wp-content/uploads/2024/11/Karaoke-Bullshooters.jpg
END:VEVENT
END:VCALENDAR