BEGIN:VCALENDAR
VERSION:2.0
PRODID:-//Go To Girl Of Ashland - ECPv6.15.20//NONSGML v1.0//EN
CALSCALE:GREGORIAN
METHOD:PUBLISH
X-WR-CALNAME:Go To Girl Of Ashland
X-ORIGINAL-URL:https://gotogirlashland.com
X-WR-CALDESC:Events for Go To Girl Of Ashland
REFRESH-INTERVAL;VALUE=DURATION:PT1H
X-Robots-Tag:noindex
X-PUBLISHED-TTL:PT1H
BEGIN:VTIMEZONE
TZID:America/New_York
BEGIN:DAYLIGHT
TZOFFSETFROM:-0500
TZOFFSETTO:-0400
TZNAME:EDT
DTSTART:20250309T070000
END:DAYLIGHT
BEGIN:STANDARD
TZOFFSETFROM:-0400
TZOFFSETTO:-0500
TZNAME:EST
DTSTART:20251102T060000
END:STANDARD
BEGIN:DAYLIGHT
TZOFFSETFROM:-0500
TZOFFSETTO:-0400
TZNAME:EDT
DTSTART:20260308T070000
END:DAYLIGHT
BEGIN:STANDARD
TZOFFSETFROM:-0400
TZOFFSETTO:-0500
TZNAME:EST
DTSTART:20261101T060000
END:STANDARD
BEGIN:DAYLIGHT
TZOFFSETFROM:-0500
TZOFFSETTO:-0400
TZNAME:EDT
DTSTART:20270314T070000
END:DAYLIGHT
BEGIN:STANDARD
TZOFFSETFROM:-0400
TZOFFSETTO:-0500
TZNAME:EST
DTSTART:20271107T060000
END:STANDARD
END:VTIMEZONE
BEGIN:VEVENT
DTSTART;TZID=America/New_York:20260113T180000
DTEND;TZID=America/New_York:20260113T180000
DTSTAMP:20260419T201041
CREATED:20260110T235027Z
LAST-MODIFIED:20260111T224815Z
UID:10004194-1768327200-1768327200@gotogirlashland.com
SUMMARY:Chautauqua Living History Series: Johnny Appleseed
DESCRIPTION:History will step out of the textbooks and onto the stage in 2026 as Living History Productions launches an exciting Chautauqua Living History Series at Genesis Christian Academy (GCA)\, bringing iconic American figures to life for the Ashland\, Wayne\, and Richland County community. The series will be held monthly at 6:00 p.m. at Genesis Christian Academy\, 810 Katherine Avenue\, located directly across from Ashland High School. Each program will feature immersive\, first-person historical portrayals designed to educate\, inspire\, and connect audiences with the nation’s past. The inaugural program is set for Tuesday\, January 13\, 2026\, and will spotlight one of the region’s most beloved historical figures — Johnny Appleseed\, known locally as John Chapman\, who traveled throughout Ashland and Richland counties in the early 1800s. Genesis Christian Academy is a comprehensive\, non-traditional Christian school offering university-style courses\, making it a fitting venue for a series rooted in education\, history\, and civic reflection. While Johnny Appleseed opens the series\, the lineup for 2026 will span the Revolutionary era and the birth of American democracy\, including portrayals of Benjamin Franklin\, Thomas Jefferson and the Declaration of Independence\, Paul Revere and his historic ride and more! Ashland County is invited to come experience history — not as a lesson\, but as a living\, breathing story — as America prepares to celebrate 250 years of freedom								\n				\n				\n				\n									\n					\n						\n									Event Info
URL:https://gotogirlashland.com/event/chautauqua-living-history-series-johnny-appleseed-011326/
LOCATION:Genesis Christian Academy\, 810 Katherine Avenue\, Ashland\, OH\, 44805\, United States
CATEGORIES:Community,Historical
ATTACH;FMTTYPE=image/png:https://gotogirlashland.com/wp-content/uploads/2026/01/Untitled-design-16.png
END:VEVENT
END:VCALENDAR