BEGIN:VCALENDAR
VERSION:2.0
PRODID:-//Go To Girl Of Ashland - ECPv6.15.20//NONSGML v1.0//EN
CALSCALE:GREGORIAN
METHOD:PUBLISH
X-WR-CALNAME:Go To Girl Of Ashland
X-ORIGINAL-URL:https://gotogirlashland.com
X-WR-CALDESC:Events for Go To Girl Of Ashland
REFRESH-INTERVAL;VALUE=DURATION:PT1H
X-Robots-Tag:noindex
X-PUBLISHED-TTL:PT1H
BEGIN:VTIMEZONE
TZID:America/New_York
BEGIN:DAYLIGHT
TZOFFSETFROM:-0500
TZOFFSETTO:-0400
TZNAME:EDT
DTSTART:20250309T070000
END:DAYLIGHT
BEGIN:STANDARD
TZOFFSETFROM:-0400
TZOFFSETTO:-0500
TZNAME:EST
DTSTART:20251102T060000
END:STANDARD
BEGIN:DAYLIGHT
TZOFFSETFROM:-0500
TZOFFSETTO:-0400
TZNAME:EDT
DTSTART:20260308T070000
END:DAYLIGHT
BEGIN:STANDARD
TZOFFSETFROM:-0400
TZOFFSETTO:-0500
TZNAME:EST
DTSTART:20261101T060000
END:STANDARD
BEGIN:DAYLIGHT
TZOFFSETFROM:-0500
TZOFFSETTO:-0400
TZNAME:EDT
DTSTART:20270314T070000
END:DAYLIGHT
BEGIN:STANDARD
TZOFFSETFROM:-0400
TZOFFSETTO:-0500
TZNAME:EST
DTSTART:20271107T060000
END:STANDARD
END:VTIMEZONE
BEGIN:VEVENT
DTSTART;TZID=America/New_York:20260228T190000
DTEND;TZID=America/New_York:20260228T223000
DTSTAMP:20260419T101051
CREATED:20260202T040140Z
LAST-MODIFIED:20260202T040343Z
UID:10004278-1772305200-1772317800@gotogirlashland.com
SUMMARY:Dueling Pianos Dinner Party
DESCRIPTION:Get ready for a high-energy night packed with music\, comedy\, and nonstop audience interaction. Featuring two talented piano players and a drummer\, this show brings the party with everything from classic rock anthems to hip-hop favorites. Expect sing-alongs\, song requests\, toasts\, roasts\, and plenty of surprises along the way. Every show is different—and that’s what makes it unforgettable. Event HighlightsDynamic Music & Comedy: A lively mix of music and humor that keeps the energy up all nightInteractive Experience: Make requests\, sing along\, and become part of the showPerfect for a Night Out: Great for date nights\, birthdays\, celebrations\, and groups								\n				\n				\n				\n									\n					\n						\n									Tickets
URL:https://gotogirlashland.com/event/dueling-pianos-dinner-party-022826/
LOCATION:Landoll’s Mohican Castle\, 561 Township Road 3352\, Loudonville\, OH\, 44842\, United States
CATEGORIES:Live Entertainment,Music,Nightlife
ATTACH;FMTTYPE=image/png:https://gotogirlashland.com/wp-content/uploads/2025/07/dueling-pianos.png
END:VEVENT
BEGIN:VEVENT
DTSTART;TZID=America/New_York:20260228T220000
DTEND;TZID=America/New_York:20260228T220000
DTSTAMP:20260419T101051
CREATED:20260115T162827Z
LAST-MODIFIED:20260115T162929Z
UID:10004220-1772316000-1772316000@gotogirlashland.com
SUMMARY:Karaoke at Bullshooters
DESCRIPTION:Get ready for a high-energy night packed with music\, comedy\, and nonstop audience interaction. Featuring two talented piano players and a drummer\, this show brings the party with everything from classic rock anthems to hip-hop favorites. Expect sing-alongs\, song requests\, toasts\, roasts\, and plenty of surprises along the way. Every show is different—and that’s what makes it unforgettable. Event HighlightsDynamic Music & Comedy: A lively mix of music and humor that keeps the energy up all nightInteractive Experience: Make requests\, sing along\, and become part of the showPerfect for a Night Out: Great for date nights\, birthdays\, celebrations\, and groups								\n				\n				\n				\n									\n					\n						\n									Tickets
URL:https://gotogirlashland.com/event/karaoke-at-bullshooters-022826/
LOCATION:Bullshooters\, 35 East Main Street\, Ashland\, OH\, 44805\, United States
CATEGORIES:Karaoke,Nightlife
ATTACH;FMTTYPE=image/jpeg:https://gotogirlashland.com/wp-content/uploads/2024/11/Karaoke-Bullshooters.jpg
END:VEVENT
END:VCALENDAR