BEGIN:VCALENDAR
VERSION:2.0
PRODID:-//Go To Girl Of Ashland - ECPv6.15.20//NONSGML v1.0//EN
CALSCALE:GREGORIAN
METHOD:PUBLISH
X-WR-CALNAME:Go To Girl Of Ashland
X-ORIGINAL-URL:https://gotogirlashland.com
X-WR-CALDESC:Events for Go To Girl Of Ashland
REFRESH-INTERVAL;VALUE=DURATION:PT1H
X-Robots-Tag:noindex
X-PUBLISHED-TTL:PT1H
BEGIN:VTIMEZONE
TZID:America/New_York
BEGIN:DAYLIGHT
TZOFFSETFROM:-0500
TZOFFSETTO:-0400
TZNAME:EDT
DTSTART:20250309T070000
END:DAYLIGHT
BEGIN:STANDARD
TZOFFSETFROM:-0400
TZOFFSETTO:-0500
TZNAME:EST
DTSTART:20251102T060000
END:STANDARD
BEGIN:DAYLIGHT
TZOFFSETFROM:-0500
TZOFFSETTO:-0400
TZNAME:EDT
DTSTART:20260308T070000
END:DAYLIGHT
BEGIN:STANDARD
TZOFFSETFROM:-0400
TZOFFSETTO:-0500
TZNAME:EST
DTSTART:20261101T060000
END:STANDARD
BEGIN:DAYLIGHT
TZOFFSETFROM:-0500
TZOFFSETTO:-0400
TZNAME:EDT
DTSTART:20270314T070000
END:DAYLIGHT
BEGIN:STANDARD
TZOFFSETFROM:-0400
TZOFFSETTO:-0500
TZNAME:EST
DTSTART:20271107T060000
END:STANDARD
END:VTIMEZONE
BEGIN:VTIMEZONE
TZID:UTC
BEGIN:STANDARD
TZOFFSETFROM:+0000
TZOFFSETTO:+0000
TZNAME:UTC
DTSTART:20250101T000000
END:STANDARD
END:VTIMEZONE
BEGIN:VEVENT
DTSTART;TZID=America/New_York:20260103T080000
DTEND;TZID=America/New_York:20260103T100000
DTSTAMP:20260419T111027
CREATED:20251220T201141Z
LAST-MODIFIED:20251220T202519Z
UID:10004120-1767427200-1767434400@gotogirlashland.com
SUMMARY:Donut Day with The Farmstead Kitchen
DESCRIPTION:Join us for an elegant late-winter five-course tasting dinner paired with handcrafted seasonal cocktails. This special evening celebrates the quiet magic between winter and spring\, with dishes and cocktails inspired by citrus\, herbs\, florals\, and warming seasonal flavors. Guests will dine together at our king’s banquet table inside the beautiful Marta Louise Ballroom. Each course is designed as a tasting-size portion\, beautifully plated and flavorful. While the earlier courses are small and curated\, the fourth course is a heartier\, more substantial tasting portion\, ensuring the full progression leaves guests comfortably full and satisfied. A zero-proof pairing is also available for guests who prefer a non-alcoholic option. 								\n				\n				\n				\n									\n					\n						\n									Tickets
URL:https://gotogirlashland.com/event/donut-day-with-the-farmstead-kitchen-010326/
LOCATION:Jeromesville Daily Grind\, 6 N High St\, Jeromesville\, 44840\, United States
CATEGORIES:Food & Drink,Shopping
ATTACH;FMTTYPE=image/png:https://gotogirlashland.com/wp-content/uploads/2024/06/donut-day.png
END:VEVENT
BEGIN:VEVENT
DTSTART;TZID=America/New_York:20260116T183000
DTEND;TZID=America/New_York:20260116T210000
DTSTAMP:20260419T111027
CREATED:20260101T060828Z
LAST-MODIFIED:20260111T225704Z
UID:10004161-1768588200-1768597200@gotogirlashland.com
SUMMARY:Winter Wine Pairing & Tasting Dinner
DESCRIPTION:Join us for an elegant late-winter five-course tasting dinner paired with handcrafted seasonal cocktails. This special evening celebrates the quiet magic between winter and spring\, with dishes and cocktails inspired by citrus\, herbs\, florals\, and warming seasonal flavors. Guests will dine together at our king’s banquet table inside the beautiful Marta Louise Ballroom. Each course is designed as a tasting-size portion\, beautifully plated and flavorful. While the earlier courses are small and curated\, the fourth course is a heartier\, more substantial tasting portion\, ensuring the full progression leaves guests comfortably full and satisfied. A zero-proof pairing is also available for guests who prefer a non-alcoholic option. 								\n				\n				\n				\n									\n					\n						\n									Tickets
URL:https://gotogirlashland.com/event/winter-wine-pairing-tasting-dinner-011626/
LOCATION:Landoll’s Mohican Castle\, 561 Township Road 3352\, Loudonville\, 44842\, United States
CATEGORIES:Food & Drink,Shopping
ATTACH;FMTTYPE=image/jpeg:https://gotogirlashland.com/wp-content/uploads/2026/01/591210303_1290910066402310_8706307634811815041_n.jpg
END:VEVENT
BEGIN:VEVENT
DTSTART;TZID=America/New_York:20260117T090000
DTEND;TZID=America/New_York:20260117T150000
DTSTAMP:20260419T111027
CREATED:20260101T220941Z
LAST-MODIFIED:20260102T010455Z
UID:10004169-1768640400-1768662000@gotogirlashland.com
SUMMARY:Flea Market and Crafts
DESCRIPTION:Join us for an elegant late-winter five-course tasting dinner paired with handcrafted seasonal cocktails. This special evening celebrates the quiet magic between winter and spring\, with dishes and cocktails inspired by citrus\, herbs\, florals\, and warming seasonal flavors. Guests will dine together at our king’s banquet table inside the beautiful Marta Louise Ballroom. Each course is designed as a tasting-size portion\, beautifully plated and flavorful. While the earlier courses are small and curated\, the fourth course is a heartier\, more substantial tasting portion\, ensuring the full progression leaves guests comfortably full and satisfied. A zero-proof pairing is also available for guests who prefer a non-alcoholic option. 								\n				\n				\n				\n									\n					\n						\n									Tickets
URL:https://gotogirlashland.com/event/flea-market-and-crafts-011726/
LOCATION:Ashland County Fairgrounds\, 2042 Claremont Avenue\, Ashland\, OH\, 44805\, United States
CATEGORIES:Craft Show,Fairgrounds,Shopping,Vendor Market
ATTACH;FMTTYPE=image/png:https://gotogirlashland.com/wp-content/uploads/2026/01/Flea-Market-Crafts-2026.png
END:VEVENT
BEGIN:VEVENT
DTSTART;TZID=America/New_York:20260117T100000
DTEND;TZID=America/New_York:20260117T150000
DTSTAMP:20260419T111027
CREATED:20260111T221957Z
LAST-MODIFIED:20260111T222821Z
UID:10004195-1768644000-1768662000@gotogirlashland.com
SUMMARY:Ashland Sports Card Show
DESCRIPTION:Join us for an elegant late-winter five-course tasting dinner paired with handcrafted seasonal cocktails. This special evening celebrates the quiet magic between winter and spring\, with dishes and cocktails inspired by citrus\, herbs\, florals\, and warming seasonal flavors. Guests will dine together at our king’s banquet table inside the beautiful Marta Louise Ballroom. Each course is designed as a tasting-size portion\, beautifully plated and flavorful. While the earlier courses are small and curated\, the fourth course is a heartier\, more substantial tasting portion\, ensuring the full progression leaves guests comfortably full and satisfied. A zero-proof pairing is also available for guests who prefer a non-alcoholic option. 								\n				\n				\n				\n									\n					\n						\n									Tickets
URL:https://gotogirlashland.com/event/ashland-sports-card-show-011726/
LOCATION:American Legion Post 88\, 1336 Claremont Avenue\, Ashland\, OH\, 44805\, United States
CATEGORIES:Shopping,Vendor Market
ATTACH;FMTTYPE=image/png:https://gotogirlashland.com/wp-content/uploads/2026/01/ashland-sports-card-show.png
END:VEVENT
BEGIN:VEVENT
DTSTART;TZID=America/New_York:20260124T080000
DTEND;TZID=America/New_York:20260124T100000
DTSTAMP:20260419T111027
CREATED:20251221T003642Z
LAST-MODIFIED:20251221T003642Z
UID:10004117-1769241600-1769248800@gotogirlashland.com
SUMMARY:Donut Day with The Farmstead Kitchen
DESCRIPTION:Join us for an elegant late-winter five-course tasting dinner paired with handcrafted seasonal cocktails. This special evening celebrates the quiet magic between winter and spring\, with dishes and cocktails inspired by citrus\, herbs\, florals\, and warming seasonal flavors. Guests will dine together at our king’s banquet table inside the beautiful Marta Louise Ballroom. Each course is designed as a tasting-size portion\, beautifully plated and flavorful. While the earlier courses are small and curated\, the fourth course is a heartier\, more substantial tasting portion\, ensuring the full progression leaves guests comfortably full and satisfied. A zero-proof pairing is also available for guests who prefer a non-alcoholic option. 								\n				\n				\n				\n									\n					\n						\n									Tickets
URL:https://gotogirlashland.com/event/donut-day-with-the-farmstead-kitchen-012426/
LOCATION:Goldberry Roasting Company\, 1262 Franklin Ave.\, Ashland\, OH\, 44805\, United States
CATEGORIES:Food & Drink,Shopping
ATTACH;FMTTYPE=image/png:https://gotogirlashland.com/wp-content/uploads/2024/06/donut-day.png
END:VEVENT
BEGIN:VEVENT
DTSTART;TZID=America/New_York:20260124T133000
DTEND;TZID=America/New_York:20260124T150000
DTSTAMP:20260419T111027
CREATED:20260102T030737Z
LAST-MODIFIED:20260119T003703Z
UID:10004181-1769261400-1769266800@gotogirlashland.com
SUMMARY:Coffee Tasting with Goldberry Roasting Co.
DESCRIPTION:Join us for an elegant late-winter five-course tasting dinner paired with handcrafted seasonal cocktails. This special evening celebrates the quiet magic between winter and spring\, with dishes and cocktails inspired by citrus\, herbs\, florals\, and warming seasonal flavors. Guests will dine together at our king’s banquet table inside the beautiful Marta Louise Ballroom. Each course is designed as a tasting-size portion\, beautifully plated and flavorful. While the earlier courses are small and curated\, the fourth course is a heartier\, more substantial tasting portion\, ensuring the full progression leaves guests comfortably full and satisfied. A zero-proof pairing is also available for guests who prefer a non-alcoholic option. 								\n				\n				\n				\n									\n					\n						\n									Tickets
URL:https://gotogirlashland.com/event/coffee-tasting-with-goldberry-roasting-co/
LOCATION:Goldberry Roasting Company\, 1262 Franklin Ave.\, Ashland\, OH\, 44805\, United States
CATEGORIES:Food & Drink,Live Entertainment,Music,Shopping,Symphony
ATTACH;FMTTYPE=image/jpeg:https://gotogirlashland.com/wp-content/uploads/2026/01/594667149_1302765965223610_1906015880250882479_n.jpg
END:VEVENT
BEGIN:VEVENT
DTSTART;TZID=America/New_York:20260124T180000
DTEND;TZID=America/New_York:20260124T213000
DTSTAMP:20260419T111027
CREATED:20260102T033041Z
LAST-MODIFIED:20260119T001659Z
UID:10004183-1769277600-1769290200@gotogirlashland.com
SUMMARY:Murder Mystery Dinner Party
DESCRIPTION:Join us for an elegant late-winter five-course tasting dinner paired with handcrafted seasonal cocktails. This special evening celebrates the quiet magic between winter and spring\, with dishes and cocktails inspired by citrus\, herbs\, florals\, and warming seasonal flavors. Guests will dine together at our king’s banquet table inside the beautiful Marta Louise Ballroom. Each course is designed as a tasting-size portion\, beautifully plated and flavorful. While the earlier courses are small and curated\, the fourth course is a heartier\, more substantial tasting portion\, ensuring the full progression leaves guests comfortably full and satisfied. A zero-proof pairing is also available for guests who prefer a non-alcoholic option. 								\n				\n				\n				\n									\n					\n						\n									Tickets
URL:https://gotogirlashland.com/event/murder-mystery-dinner-party-012426/
LOCATION:Landoll’s Mohican Castle\, 561 Township Road 3352\, Loudonville\, OH\, 44842\, United States
CATEGORIES:Food & Drink,Live Entertainment,Shopping
ATTACH;FMTTYPE=image/jpeg:https://gotogirlashland.com/wp-content/uploads/2025/01/Landolls-murder-mystery.jpg
END:VEVENT
BEGIN:VEVENT
DTSTART;TZID=America/New_York:20260125T160000
DTEND;TZID=America/New_York:20260125T180000
DTSTAMP:20260419T111027
CREATED:20260118T233601Z
LAST-MODIFIED:20260125T161646Z
UID:10004227-1769356800-1769364000@gotogirlashland.com
SUMMARY:Community Meal - Feast Night
DESCRIPTION:Join us for an elegant late-winter five-course tasting dinner paired with handcrafted seasonal cocktails. This special evening celebrates the quiet magic between winter and spring\, with dishes and cocktails inspired by citrus\, herbs\, florals\, and warming seasonal flavors. Guests will dine together at our king’s banquet table inside the beautiful Marta Louise Ballroom. Each course is designed as a tasting-size portion\, beautifully plated and flavorful. While the earlier courses are small and curated\, the fourth course is a heartier\, more substantial tasting portion\, ensuring the full progression leaves guests comfortably full and satisfied. A zero-proof pairing is also available for guests who prefer a non-alcoholic option. 								\n				\n				\n				\n									\n					\n						\n									Tickets
URL:https://gotogirlashland.com/event/community-meal-feast-night-012526/
LOCATION:First United Methodist Church\, 220 Sandusky St.\, Ashland\, OH\, 44805\, United States
CATEGORIES:Community,Faith,Food & Drink,Shopping
ATTACH;FMTTYPE=image/png:https://gotogirlashland.com/wp-content/uploads/2026/01/feast-night-Jan-canceled-FB.png
END:VEVENT
BEGIN:VEVENT
DTSTART;TZID=UTC:20260129T180000
DTEND;TZID=UTC:20260129T193000
DTSTAMP:20260419T111027
CREATED:20260116T011706Z
LAST-MODIFIED:20260116T013518Z
UID:10004224-1769709600-1769715000@gotogirlashland.com
SUMMARY:Cookie Decorating Class
DESCRIPTION:Join us for an elegant late-winter five-course tasting dinner paired with handcrafted seasonal cocktails. This special evening celebrates the quiet magic between winter and spring\, with dishes and cocktails inspired by citrus\, herbs\, florals\, and warming seasonal flavors. Guests will dine together at our king’s banquet table inside the beautiful Marta Louise Ballroom. Each course is designed as a tasting-size portion\, beautifully plated and flavorful. While the earlier courses are small and curated\, the fourth course is a heartier\, more substantial tasting portion\, ensuring the full progression leaves guests comfortably full and satisfied. A zero-proof pairing is also available for guests who prefer a non-alcoholic option. 								\n				\n				\n				\n									\n					\n						\n									Tickets
URL:https://gotogirlashland.com/event/cookie-decorating-class-012926/
LOCATION:BLOOM Nutrition and drink bar\, 126 East Main St\, Ashland\, OH\, 44805\, United States
CATEGORIES:Community,Crafts,Food & Drink,Shopping
ATTACH;FMTTYPE=image/png:https://gotogirlashland.com/wp-content/uploads/2026/01/cookie-decorating-at-bloom.png
END:VEVENT
BEGIN:VEVENT
DTSTART;TZID=America/New_York:20260130T170000
DTEND;TZID=America/New_York:20260130T190000
DTSTAMP:20260419T111027
CREATED:20260118T234307Z
LAST-MODIFIED:20260118T234503Z
UID:10004228-1769792400-1769799600@gotogirlashland.com
SUMMARY:Final Friday - January "It Is Snow Much Fun to be Downtown!"
DESCRIPTION:Join us for an elegant late-winter five-course tasting dinner paired with handcrafted seasonal cocktails. This special evening celebrates the quiet magic between winter and spring\, with dishes and cocktails inspired by citrus\, herbs\, florals\, and warming seasonal flavors. Guests will dine together at our king’s banquet table inside the beautiful Marta Louise Ballroom. Each course is designed as a tasting-size portion\, beautifully plated and flavorful. While the earlier courses are small and curated\, the fourth course is a heartier\, more substantial tasting portion\, ensuring the full progression leaves guests comfortably full and satisfied. A zero-proof pairing is also available for guests who prefer a non-alcoholic option. 								\n				\n				\n				\n									\n					\n						\n									Tickets
URL:https://gotogirlashland.com/event/final-friday-january-it-is-snow-much-fun-to-be-downtown-013026/
LOCATION:Ashland Main Street\, 143 1/2 A West Main Street\, Ashland\, OH\, 44805\, United States
CATEGORIES:Community,DORA,Food & Drink,Shopping
ATTACH;FMTTYPE=image/jpeg:https://gotogirlashland.com/wp-content/uploads/2026/01/jan-final-friday.jpg
END:VEVENT
BEGIN:VEVENT
DTSTART;TZID=UTC:20260205T170000
DTEND;TZID=UTC:20260205T190000
DTSTAMP:20260419T111027
CREATED:20260121T035955Z
LAST-MODIFIED:20260202T005749Z
UID:10004231-1770310800-1770318000@gotogirlashland.com
SUMMARY:Galentine's Day!
DESCRIPTION:Join us for an elegant late-winter five-course tasting dinner paired with handcrafted seasonal cocktails. This special evening celebrates the quiet magic between winter and spring\, with dishes and cocktails inspired by citrus\, herbs\, florals\, and warming seasonal flavors. Guests will dine together at our king’s banquet table inside the beautiful Marta Louise Ballroom. Each course is designed as a tasting-size portion\, beautifully plated and flavorful. While the earlier courses are small and curated\, the fourth course is a heartier\, more substantial tasting portion\, ensuring the full progression leaves guests comfortably full and satisfied. A zero-proof pairing is also available for guests who prefer a non-alcoholic option. 								\n				\n				\n				\n									\n					\n						\n									Tickets
URL:https://gotogirlashland.com/event/galentines-day-020526/
LOCATION:Ashland Main Street\, 143 1/2 A West Main Street\, Ashland\, OH\, 44805\, United States
CATEGORIES:Ashland Main Street,Business,Community,DORA,Food & Drink,Holiday,Shopping
ATTACH;FMTTYPE=image/jpeg:https://gotogirlashland.com/wp-content/uploads/2026/01/616071311_1273313081487777_2993434857702463691_n.jpg
END:VEVENT
BEGIN:VEVENT
DTSTART;TZID=America/New_York:20260214T173000
DTEND;TZID=America/New_York:20260214T223000
DTSTAMP:20260419T111027
CREATED:20260127T032446Z
LAST-MODIFIED:20260127T032630Z
UID:10004255-1771090200-1771108200@gotogirlashland.com
SUMMARY:Valentine's Day at Luna\, 5:30pm or 8:30pm
DESCRIPTION:Join us for an elegant late-winter five-course tasting dinner paired with handcrafted seasonal cocktails. This special evening celebrates the quiet magic between winter and spring\, with dishes and cocktails inspired by citrus\, herbs\, florals\, and warming seasonal flavors. Guests will dine together at our king’s banquet table inside the beautiful Marta Louise Ballroom. Each course is designed as a tasting-size portion\, beautifully plated and flavorful. While the earlier courses are small and curated\, the fourth course is a heartier\, more substantial tasting portion\, ensuring the full progression leaves guests comfortably full and satisfied. A zero-proof pairing is also available for guests who prefer a non-alcoholic option. 								\n				\n				\n				\n									\n					\n						\n									Tickets
URL:https://gotogirlashland.com/event/valentines-day-at-luna-530pm-or-830pm-021426/
LOCATION:Luna\, 121 South Street\, Ashland\, OH\, 44805\, United States
CATEGORIES:Food & Drink,Holiday,Music,Shopping
ATTACH;FMTTYPE=image/avif:https://gotogirlashland.com/wp-content/uploads/2026/01/valentines-at-Luna.avif
END:VEVENT
BEGIN:VEVENT
DTSTART;TZID=America/New_York:20260218T180000
DTEND;TZID=America/New_York:20260218T203000
DTSTAMP:20260419T111027
CREATED:20260127T040644Z
LAST-MODIFIED:20260127T041000Z
UID:10004260-1771437600-1771446600@gotogirlashland.com
SUMMARY:Women & Whiskey
DESCRIPTION:Join us for an elegant late-winter five-course tasting dinner paired with handcrafted seasonal cocktails. This special evening celebrates the quiet magic between winter and spring\, with dishes and cocktails inspired by citrus\, herbs\, florals\, and warming seasonal flavors. Guests will dine together at our king’s banquet table inside the beautiful Marta Louise Ballroom. Each course is designed as a tasting-size portion\, beautifully plated and flavorful. While the earlier courses are small and curated\, the fourth course is a heartier\, more substantial tasting portion\, ensuring the full progression leaves guests comfortably full and satisfied. A zero-proof pairing is also available for guests who prefer a non-alcoholic option. 								\n				\n				\n				\n									\n					\n						\n									Tickets
URL:https://gotogirlashland.com/event/women-whiskey-021826/
LOCATION:Luna\, 121 South Street\, Ashland\, OH\, 44805\, United States
CATEGORIES:Food & Drink,Nightlife,Shopping
ATTACH;FMTTYPE=image/avif:https://gotogirlashland.com/wp-content/uploads/2026/01/women-and-whiskey.avif
END:VEVENT
BEGIN:VEVENT
DTSTART;TZID=America/New_York:20260221T090000
DTEND;TZID=America/New_York:20260221T150000
DTSTAMP:20260419T111027
CREATED:20260202T025855Z
LAST-MODIFIED:20260202T025855Z
UID:10004271-1771664400-1771686000@gotogirlashland.com
SUMMARY:Flea Market and Crafts
DESCRIPTION:Join us for an elegant late-winter five-course tasting dinner paired with handcrafted seasonal cocktails. This special evening celebrates the quiet magic between winter and spring\, with dishes and cocktails inspired by citrus\, herbs\, florals\, and warming seasonal flavors. Guests will dine together at our king’s banquet table inside the beautiful Marta Louise Ballroom. Each course is designed as a tasting-size portion\, beautifully plated and flavorful. While the earlier courses are small and curated\, the fourth course is a heartier\, more substantial tasting portion\, ensuring the full progression leaves guests comfortably full and satisfied. A zero-proof pairing is also available for guests who prefer a non-alcoholic option. 								\n				\n				\n				\n									\n					\n						\n									Tickets
URL:https://gotogirlashland.com/event/flea-market-and-crafts-022126/
LOCATION:Ashland County Fairgrounds\, 2042 Claremont Avenue\, Ashland\, OH\, 44805\, United States
CATEGORIES:Craft Show,Fairgrounds,Shopping,Vendor Market
ATTACH;FMTTYPE=image/png:https://gotogirlashland.com/wp-content/uploads/2026/01/Flea-Market-Crafts-2026.png
END:VEVENT
BEGIN:VEVENT
DTSTART;TZID=America/New_York:20260227T180000
DTEND;TZID=America/New_York:20260227T203000
DTSTAMP:20260419T111027
CREATED:20260202T033637Z
LAST-MODIFIED:20260202T033931Z
UID:10004275-1772215200-1772224200@gotogirlashland.com
SUMMARY:Enchanted Winter Spirits Banquet
DESCRIPTION:Join us for an elegant late-winter five-course tasting dinner paired with handcrafted seasonal cocktails. This special evening celebrates the quiet magic between winter and spring\, with dishes and cocktails inspired by citrus\, herbs\, florals\, and warming seasonal flavors. Guests will dine together at our king’s banquet table inside the beautiful Marta Louise Ballroom. Each course is designed as a tasting-size portion\, beautifully plated and flavorful. While the earlier courses are small and curated\, the fourth course is a heartier\, more substantial tasting portion\, ensuring the full progression leaves guests comfortably full and satisfied. A zero-proof pairing is also available for guests who prefer a non-alcoholic option. 								\n				\n				\n				\n									\n					\n						\n									Tickets
URL:https://gotogirlashland.com/event/enchanted-winter-spirits-banquet-022726/
LOCATION:Landoll’s Mohican Castle\, 561 Township Road 3352\, Loudonville\, OH\, 44842\, United States
CATEGORIES:Food & Drink,Shopping
ATTACH;FMTTYPE=image/avif:https://gotogirlashland.com/wp-content/uploads/2026/02/596048930_1298913555601961_983216357522741840_n-scaled.avif
END:VEVENT
END:VCALENDAR