BEGIN:VCALENDAR
VERSION:2.0
PRODID:-//Go To Girl Of Ashland - ECPv6.15.20//NONSGML v1.0//EN
CALSCALE:GREGORIAN
METHOD:PUBLISH
X-ORIGINAL-URL:https://gotogirlashland.com
X-WR-CALDESC:Events for Go To Girl Of Ashland
REFRESH-INTERVAL;VALUE=DURATION:PT1H
X-Robots-Tag:noindex
X-PUBLISHED-TTL:PT1H
BEGIN:VTIMEZONE
TZID:America/New_York
BEGIN:DAYLIGHT
TZOFFSETFROM:-0500
TZOFFSETTO:-0400
TZNAME:EDT
DTSTART:20250309T070000
END:DAYLIGHT
BEGIN:STANDARD
TZOFFSETFROM:-0400
TZOFFSETTO:-0500
TZNAME:EST
DTSTART:20251102T060000
END:STANDARD
BEGIN:DAYLIGHT
TZOFFSETFROM:-0500
TZOFFSETTO:-0400
TZNAME:EDT
DTSTART:20260308T070000
END:DAYLIGHT
BEGIN:STANDARD
TZOFFSETFROM:-0400
TZOFFSETTO:-0500
TZNAME:EST
DTSTART:20261101T060000
END:STANDARD
BEGIN:DAYLIGHT
TZOFFSETFROM:-0500
TZOFFSETTO:-0400
TZNAME:EDT
DTSTART:20270314T070000
END:DAYLIGHT
BEGIN:STANDARD
TZOFFSETFROM:-0400
TZOFFSETTO:-0500
TZNAME:EST
DTSTART:20271107T060000
END:STANDARD
END:VTIMEZONE
BEGIN:VEVENT
DTSTART;TZID=America/New_York:20260213T100000
DTEND;TZID=America/New_York:20260213T170000
DTSTAMP:20260419T131325
CREATED:20260126T043209Z
LAST-MODIFIED:20260126T043417Z
UID:10004252-1770976800-1771002000@gotogirlashland.com
SUMMARY:Honoring Special Needs Day
DESCRIPTION:Calling all special needs families to stop into Fig+Oak for a fun filled atmosphere catered to celebrating YOU. We know that the magical “A night to shine – Under the Sea Event” is going on in the evening of February 13th\, so we thought we would open up the day for you to come in for a free goodie to remind you that you are seen\, loved\, heard\, and you SHINE everywhere you go! We will have a mermaid to interact with you from 12-4 in our backroom\, but our free “TREASURE” will be available to pick up during our store business hours-10am-5pm. We can’t wait to see you! 								\n				\n				\n				\n									\n					\n						\n									Event Page
URL:https://gotogirlashland.com/event/honoring-special-needs-day-021326/
LOCATION:Fig + Oak\, 100 W Main Street\, Ashland\, OH\, 44805\, United States
CATEGORIES:Family Activities,Special Needs
ATTACH;FMTTYPE=image/png:https://gotogirlashland.com/wp-content/uploads/2026/01/special-needs-day.png
END:VEVENT
END:VCALENDAR