BEGIN:VCALENDAR
VERSION:2.0
PRODID:-//Go To Girl Of Ashland - ECPv6.15.20//NONSGML v1.0//EN
CALSCALE:GREGORIAN
METHOD:PUBLISH
X-WR-CALNAME:Go To Girl Of Ashland
X-ORIGINAL-URL:https://gotogirlashland.com
X-WR-CALDESC:Events for Go To Girl Of Ashland
REFRESH-INTERVAL;VALUE=DURATION:PT1H
X-Robots-Tag:noindex
X-PUBLISHED-TTL:PT1H
BEGIN:VTIMEZONE
TZID:UTC
BEGIN:STANDARD
TZOFFSETFROM:+0000
TZOFFSETTO:+0000
TZNAME:UTC
DTSTART:20250101T000000
END:STANDARD
END:VTIMEZONE
BEGIN:VTIMEZONE
TZID:America/New_York
BEGIN:DAYLIGHT
TZOFFSETFROM:-0500
TZOFFSETTO:-0400
TZNAME:EDT
DTSTART:20250309T070000
END:DAYLIGHT
BEGIN:STANDARD
TZOFFSETFROM:-0400
TZOFFSETTO:-0500
TZNAME:EST
DTSTART:20251102T060000
END:STANDARD
BEGIN:DAYLIGHT
TZOFFSETFROM:-0500
TZOFFSETTO:-0400
TZNAME:EDT
DTSTART:20260308T070000
END:DAYLIGHT
BEGIN:STANDARD
TZOFFSETFROM:-0400
TZOFFSETTO:-0500
TZNAME:EST
DTSTART:20261101T060000
END:STANDARD
BEGIN:DAYLIGHT
TZOFFSETFROM:-0500
TZOFFSETTO:-0400
TZNAME:EDT
DTSTART:20270314T070000
END:DAYLIGHT
BEGIN:STANDARD
TZOFFSETFROM:-0400
TZOFFSETTO:-0500
TZNAME:EST
DTSTART:20271107T060000
END:STANDARD
END:VTIMEZONE
BEGIN:VEVENT
DTSTART;TZID=UTC:20260212T190000
DTEND;TZID=UTC:20260212T210000
DTSTAMP:20260419T151708
CREATED:20260115T155114Z
LAST-MODIFIED:20260115T155154Z
UID:10004210-1770922800-1770930000@gotogirlashland.com
SUMMARY:Thursday Trivia Night
DESCRIPTION:We’ll listen to a couple of stories and then head out for a short discovery walk to explore nature! Designed for young children (1-5yrs) & their caregivers. @ Davy McClure Outdoor Education Center. 								\n				\n				\n				\n									\n					\n						\n									Event Page
URL:https://gotogirlashland.com/event/thursday-trivia-night-021226/
LOCATION:Joan’s Tavern\, 165 Union Street\, Ashland\, OH\, 44805\, United States
CATEGORIES:Nightlife,Trivia
ATTACH;FMTTYPE=image/jpeg:https://gotogirlashland.com/wp-content/uploads/2024/01/6fd46c59-c71f-432f-aa72-f7a13655df98.jpg
END:VEVENT
BEGIN:VEVENT
DTSTART;TZID=America/New_York:20260211T190000
DTEND;TZID=America/New_York:20260211T203000
DTSTAMP:20260419T151708
CREATED:20260115T153857Z
LAST-MODIFIED:20260115T153922Z
UID:10004206-1770836400-1770841800@gotogirlashland.com
SUMMARY:Wednesday Trivia Night
DESCRIPTION:We’ll listen to a couple of stories and then head out for a short discovery walk to explore nature! Designed for young children (1-5yrs) & their caregivers. @ Davy McClure Outdoor Education Center. 								\n				\n				\n				\n									\n					\n						\n									Event Page
URL:https://gotogirlashland.com/event/wednesday-trivia-night-021126/
LOCATION:Kash Co. PourHouse (always 21+)\, 155 West Main Street\, Ashland\, OH\, 44805\, United States
CATEGORIES:Nightlife,Trivia
ATTACH;FMTTYPE=image/jpeg:https://gotogirlashland.com/wp-content/uploads/2024/04/trivia_night_2.jpg
END:VEVENT
BEGIN:VEVENT
DTSTART;TZID=America/New_York:20260208T200000
DTEND;TZID=America/New_York:20260208T235900
DTSTAMP:20260419T151708
CREATED:20260115T152211Z
LAST-MODIFIED:20260115T152423Z
UID:10004202-1770580800-1770595140@gotogirlashland.com
SUMMARY:Sunday Karaoke
DESCRIPTION:We’ll listen to a couple of stories and then head out for a short discovery walk to explore nature! Designed for young children (1-5yrs) & their caregivers. @ Davy McClure Outdoor Education Center. 								\n				\n				\n				\n									\n					\n						\n									Event Page
URL:https://gotogirlashland.com/event/sunday-karaoke-020826/
LOCATION:Kash Co. PourHouse (always 21+)\, 155 West Main Street\, Ashland\, OH\, 44805\, United States
CATEGORIES:Karaoke,Nightlife
ATTACH;FMTTYPE=image/jpeg:https://gotogirlashland.com/wp-content/uploads/2024/04/Karaoke.jpg
END:VEVENT
BEGIN:VEVENT
DTSTART;TZID=America/New_York:20260207T220000
DTEND;TZID=America/New_York:20260207T220000
DTSTAMP:20260419T151708
CREATED:20260115T160356Z
LAST-MODIFIED:20260115T160422Z
UID:10004214-1770501600-1770501600@gotogirlashland.com
SUMMARY:Karaoke at Bullshooters
DESCRIPTION:We’ll listen to a couple of stories and then head out for a short discovery walk to explore nature! Designed for young children (1-5yrs) & their caregivers. @ Davy McClure Outdoor Education Center. 								\n				\n				\n				\n									\n					\n						\n									Event Page
URL:https://gotogirlashland.com/event/karaoke-at-bullshooters-020726/
LOCATION:Bullshooters\, 35 East Main Street\, Ashland\, OH\, 44805\, United States
CATEGORIES:Karaoke,Nightlife
ATTACH;FMTTYPE=image/jpeg:https://gotogirlashland.com/wp-content/uploads/2024/11/Karaoke-Bullshooters.jpg
END:VEVENT
BEGIN:VEVENT
DTSTART;TZID=America/New_York:20260207T183000
DTEND;TZID=America/New_York:20260207T230000
DTSTAMP:20260419T151708
CREATED:20260121T050607Z
LAST-MODIFIED:20260202T005534Z
UID:10004237-1770489000-1770505200@gotogirlashland.com
SUMMARY:Boot Scootin' Boogie Country Night Party
DESCRIPTION:We’ll listen to a couple of stories and then head out for a short discovery walk to explore nature! Designed for young children (1-5yrs) & their caregivers. @ Davy McClure Outdoor Education Center. 								\n				\n				\n				\n									\n					\n						\n									Event Page
URL:https://gotogirlashland.com/event/boot-scootin-boogie-landolls-mohican-castle-020726/
LOCATION:Landoll’s Mohican Castle\, 561 Township Road 3352\, Loudonville\, 44842\, United States
CATEGORIES:Community,Food & Drink,Games,Live Entertainment
ATTACH;FMTTYPE=image/jpeg:https://gotogirlashland.com/wp-content/uploads/2026/01/559133524_1246543030839014_2088582521150643417_n.png-2-scaled.jpeg
END:VEVENT
BEGIN:VEVENT
DTSTART;TZID=America/New_York:20260207T180000
DTEND;TZID=America/New_York:20260207T200000
DTSTAMP:20260419T151708
CREATED:20260126T035652Z
LAST-MODIFIED:20260126T035915Z
UID:10004250-1770487200-1770494400@gotogirlashland.com
SUMMARY:Father-Daughter Dance
DESCRIPTION:We’ll listen to a couple of stories and then head out for a short discovery walk to explore nature! Designed for young children (1-5yrs) & their caregivers. @ Davy McClure Outdoor Education Center. 								\n				\n				\n				\n									\n					\n						\n									Event Page
URL:https://gotogirlashland.com/event/father-daughter-dance-020726/
LOCATION:Ashland Kroc Center\, 527 E. Liberty St\, Ashland\, 44805\, United States
CATEGORIES:Family Activities,Kids,Kroc Center
ATTACH;FMTTYPE=image/png:https://gotogirlashland.com/wp-content/uploads/2026/01/Kroc-Father-Daughter-Dance.png
END:VEVENT
BEGIN:VEVENT
DTSTART;TZID=America/New_York:20260207T100000
DTEND;TZID=America/New_York:20260207T120000
DTSTAMP:20260419T151708
CREATED:20260121T045026Z
LAST-MODIFIED:20260121T045247Z
UID:10004236-1770458400-1770465600@gotogirlashland.com
SUMMARY:Paint & Sip
DESCRIPTION:We’ll listen to a couple of stories and then head out for a short discovery walk to explore nature! Designed for young children (1-5yrs) & their caregivers. @ Davy McClure Outdoor Education Center. 								\n				\n				\n				\n									\n					\n						\n									Event Page
URL:https://gotogirlashland.com/event/paint-sip-020726/
LOCATION:Davy McClure Outdoor Education Center\, 748 County Road 1754\, Ashland\, OH\, 44805\, United States
CATEGORIES:Art,Community,Food & Drink
ATTACH;FMTTYPE=image/png:https://gotogirlashland.com/wp-content/uploads/2026/01/Untitled-design-20.png
END:VEVENT
BEGIN:VEVENT
DTSTART;TZID=America/New_York:20260206T220000
DTEND;TZID=America/New_York:20260206T220000
DTSTAMP:20260419T151708
CREATED:20260115T155942Z
LAST-MODIFIED:20260115T160013Z
UID:10004213-1770415200-1770415200@gotogirlashland.com
SUMMARY:Karaoke at Bullshooters
DESCRIPTION:We’ll listen to a couple of stories and then head out for a short discovery walk to explore nature! Designed for young children (1-5yrs) & their caregivers. @ Davy McClure Outdoor Education Center. 								\n				\n				\n				\n									\n					\n						\n									Event Page
URL:https://gotogirlashland.com/event/karaoke-at-bullshooters-020626/
LOCATION:Bullshooters\, 35 East Main Street\, Ashland\, OH\, 44805\, United States
CATEGORIES:Karaoke,Nightlife
ATTACH;FMTTYPE=image/jpeg:https://gotogirlashland.com/wp-content/uploads/2024/11/Karaoke-Bullshooters.jpg
END:VEVENT
BEGIN:VEVENT
DTSTART;TZID=America/New_York:20260206T210000
DTEND;TZID=America/New_York:20260206T235900
DTSTAMP:20260419T151708
CREATED:20260115T165308Z
LAST-MODIFIED:20260115T165358Z
UID:10004222-1770411600-1770422340@gotogirlashland.com
SUMMARY:Kim & Dougie with Ed
DESCRIPTION:We’ll listen to a couple of stories and then head out for a short discovery walk to explore nature! Designed for young children (1-5yrs) & their caregivers. @ Davy McClure Outdoor Education Center. 								\n				\n				\n				\n									\n					\n						\n									Event Page
URL:https://gotogirlashland.com/event/kim-dougie-with-ed-020626/
LOCATION:Kash Co. PourHouse (always 21+)\, 155 West Main Street\, Ashland\, OH\, 44805\, United States
CATEGORIES:Live Entertainment,Music,Nightlife
ATTACH;FMTTYPE=image/jpeg:https://gotogirlashland.com/wp-content/uploads/2024/10/Kim-and-Dougie.jpg
END:VEVENT
BEGIN:VEVENT
DTSTART;TZID=America/New_York:20260206T193000
DTEND;TZID=America/New_York:20260206T223000
DTSTAMP:20260419T151708
CREATED:20260121T043946Z
LAST-MODIFIED:20260121T044256Z
UID:10004235-1770406200-1770417000@gotogirlashland.com
SUMMARY:Newlywed Game at the Castle
DESCRIPTION:We’ll listen to a couple of stories and then head out for a short discovery walk to explore nature! Designed for young children (1-5yrs) & their caregivers. @ Davy McClure Outdoor Education Center. 								\n				\n				\n				\n									\n					\n						\n									Event Page
URL:https://gotogirlashland.com/event/newlywed-game-at-the-castle-020626/
LOCATION:Landoll’s Mohican Castle\, 561 Township Road 3352\, Loudonville\, 44842\, United States
CATEGORIES:Community,Food & Drink,Games,Holiday,Live Entertainment
ATTACH;FMTTYPE=image/png:https://gotogirlashland.com/wp-content/uploads/2026/01/Untitled-design-19.png
END:VEVENT
BEGIN:VEVENT
DTSTART;TZID=America/New_York:20260206T190000
DTEND;TZID=America/New_York:20260206T203000
DTSTAMP:20260419T151708
CREATED:20260121T042842Z
LAST-MODIFIED:20260121T043023Z
UID:10004234-1770404400-1770409800@gotogirlashland.com
SUMMARY:Owl Prowl
DESCRIPTION:We’ll listen to a couple of stories and then head out for a short discovery walk to explore nature! Designed for young children (1-5yrs) & their caregivers. @ Davy McClure Outdoor Education Center. 								\n				\n				\n				\n									\n					\n						\n									Event Page
URL:https://gotogirlashland.com/event/owl-prowl-020626/
LOCATION:Byers Woods\, 675 County Road 1754\, Ashland\, OH\, 44805\, United States
CATEGORIES:Community,Conservation
ATTACH;FMTTYPE=image/jpeg:https://gotogirlashland.com/wp-content/uploads/2026/01/615445003_1150880370592630_9024267016258398017_n.jpg
END:VEVENT
BEGIN:VEVENT
DTSTART;TZID=America/New_York:20260206T100000
DTEND;TZID=America/New_York:20260206T110000
DTSTAMP:20260419T151708
CREATED:20260121T042030Z
LAST-MODIFIED:20260202T005232Z
UID:10004233-1770372000-1770375600@gotogirlashland.com
SUMMARY:Puzzle Club
DESCRIPTION:We’ll listen to a couple of stories and then head out for a short discovery walk to explore nature! Designed for young children (1-5yrs) & their caregivers. @ Davy McClure Outdoor Education Center. 								\n				\n				\n				\n									\n					\n						\n									Event Page
URL:https://gotogirlashland.com/event/puzzle-club-020626/
LOCATION:Ashland Public Library
CATEGORIES:Community,Library
ATTACH;FMTTYPE=image/png:https://gotogirlashland.com/wp-content/uploads/2026/01/Untitled-design-17.png
END:VEVENT
BEGIN:VEVENT
DTSTART;TZID=UTC:20260205T190000
DTEND;TZID=UTC:20260205T210000
DTSTAMP:20260419T151708
CREATED:20260115T154734Z
LAST-MODIFIED:20260115T154816Z
UID:10004209-1770318000-1770325200@gotogirlashland.com
SUMMARY:Thursday Trivia Night
DESCRIPTION:We’ll listen to a couple of stories and then head out for a short discovery walk to explore nature! Designed for young children (1-5yrs) & their caregivers. @ Davy McClure Outdoor Education Center. 								\n				\n				\n				\n									\n					\n						\n									Event Page
URL:https://gotogirlashland.com/event/thursday-trivia-night-020526/
LOCATION:Joan’s Tavern\, 165 Union Street\, Ashland\, OH\, 44805\, United States
CATEGORIES:Nightlife,Trivia
ATTACH;FMTTYPE=image/jpeg:https://gotogirlashland.com/wp-content/uploads/2024/01/6fd46c59-c71f-432f-aa72-f7a13655df98.jpg
END:VEVENT
BEGIN:VEVENT
DTSTART;TZID=UTC:20260205T180000
DTEND;TZID=UTC:20260205T200000
DTSTAMP:20260419T151708
CREATED:20260115T164424Z
LAST-MODIFIED:20260115T164821Z
UID:10004221-1770314400-1770321600@gotogirlashland.com
SUMMARY:Open Mic Night at Goldberry
DESCRIPTION:We’ll listen to a couple of stories and then head out for a short discovery walk to explore nature! Designed for young children (1-5yrs) & their caregivers. @ Davy McClure Outdoor Education Center. 								\n				\n				\n				\n									\n					\n						\n									Event Page
URL:https://gotogirlashland.com/event/open-mic-night-at-goldberry-020526/
LOCATION:Goldberry Roasting Company\, 1262 Franklin Ave.\, Ashland\, OH\, 44805\, United States
CATEGORIES:Live Entertainment,Music
ATTACH;FMTTYPE=image/png:https://gotogirlashland.com/wp-content/uploads/2025/12/Goldberry-Open-Mic.png
END:VEVENT
BEGIN:VEVENT
DTSTART;TZID=America/New_York:20260205T170000
DTEND;TZID=America/New_York:20260205T190000
DTSTAMP:20260419T151708
CREATED:20260121T040557Z
LAST-MODIFIED:20260121T041009Z
UID:10004232-1770310800-1770318000@gotogirlashland.com
SUMMARY:Family Fun Night
DESCRIPTION:We’ll listen to a couple of stories and then head out for a short discovery walk to explore nature! Designed for young children (1-5yrs) & their caregivers. @ Davy McClure Outdoor Education Center. 								\n				\n				\n				\n									\n					\n						\n									Event Page
URL:https://gotogirlashland.com/event/family-fun-night/
LOCATION:Ashland Kroc Center\, 527 E. Liberty St\, Ashland\, 44805\, United States
CATEGORIES:Family Activities,Kids,Kroc Center
ATTACH;FMTTYPE=image/jpeg:https://gotogirlashland.com/wp-content/uploads/2025/09/kroc-family-night.jpg
END:VEVENT
BEGIN:VEVENT
DTSTART;TZID=UTC:20260205T170000
DTEND;TZID=UTC:20260205T190000
DTSTAMP:20260419T151708
CREATED:20260121T035955Z
LAST-MODIFIED:20260202T005749Z
UID:10004231-1770310800-1770318000@gotogirlashland.com
SUMMARY:Galentine's Day!
DESCRIPTION:We’ll listen to a couple of stories and then head out for a short discovery walk to explore nature! Designed for young children (1-5yrs) & their caregivers. @ Davy McClure Outdoor Education Center. 								\n				\n				\n				\n									\n					\n						\n									Event Page
URL:https://gotogirlashland.com/event/galentines-day-020526/
LOCATION:Ashland Main Street\, 143 1/2 A West Main Street\, Ashland\, OH\, 44805\, United States
CATEGORIES:Ashland Main Street,Business,Community,DORA,Food & Drink,Holiday,Shopping
ATTACH;FMTTYPE=image/jpeg:https://gotogirlashland.com/wp-content/uploads/2026/01/616071311_1273313081487777_2993434857702463691_n.jpg
END:VEVENT
BEGIN:VEVENT
DTSTART;TZID=America/New_York:20260204T190000
DTEND;TZID=America/New_York:20260204T203000
DTSTAMP:20260419T151708
CREATED:20260115T153304Z
LAST-MODIFIED:20260115T153449Z
UID:10004205-1770231600-1770237000@gotogirlashland.com
SUMMARY:Wednesday Trivia Night
DESCRIPTION:We’ll listen to a couple of stories and then head out for a short discovery walk to explore nature! Designed for young children (1-5yrs) & their caregivers. @ Davy McClure Outdoor Education Center. 								\n				\n				\n				\n									\n					\n						\n									Event Page
URL:https://gotogirlashland.com/event/wednesday-trivia-night-020426/
LOCATION:Kash Co. PourHouse (always 21+)\, 155 West Main Street\, Ashland\, OH\, 44805\, United States
CATEGORIES:Nightlife,Trivia
ATTACH;FMTTYPE=image/jpeg:https://gotogirlashland.com/wp-content/uploads/2024/04/trivia_night_2.jpg
END:VEVENT
BEGIN:VEVENT
DTSTART;TZID=America/New_York:20260203T180000
DTEND;TZID=America/New_York:20260203T200000
DTSTAMP:20260419T151708
CREATED:20260115T050354Z
LAST-MODIFIED:20260115T050702Z
UID:10004198-1770141600-1770148800@gotogirlashland.com
SUMMARY:Trivia at Ohio Fire
DESCRIPTION:We’ll listen to a couple of stories and then head out for a short discovery walk to explore nature! Designed for young children (1-5yrs) & their caregivers. @ Davy McClure Outdoor Education Center. 								\n				\n				\n				\n									\n					\n						\n									Event Page
URL:https://gotogirlashland.com/event/trivia-at-ohio-fire-020326/
LOCATION:Ohio Fire\, 88 East Main Street\, Ashland\, OH\, 44805\, United States
CATEGORIES:Ashland Main Street,Community,Food & Drink,Nightlife,Trivia
ATTACH;FMTTYPE=image/jpeg:https://gotogirlashland.com/wp-content/uploads/2025/10/Ohio-Fire-Trivia.jpg
END:VEVENT
BEGIN:VEVENT
DTSTART;TZID=America/New_York:20260203T173000
DTEND;TZID=America/New_York:20260203T200000
DTSTAMP:20260419T151708
CREATED:20260126T040945Z
LAST-MODIFIED:20260126T041745Z
UID:10004251-1770139800-1770148800@gotogirlashland.com
SUMMARY:ACTS 4 Love - Creative Cutters
DESCRIPTION:We’ll listen to a couple of stories and then head out for a short discovery walk to explore nature! Designed for young children (1-5yrs) & their caregivers. @ Davy McClure Outdoor Education Center. 								\n				\n				\n				\n									\n					\n						\n									Event Page
URL:https://gotogirlashland.com/event/acts-4-love-creative-cutters-020326/
LOCATION:New Life Community Church\, 1489 State Route 511\, Ashland\, OH\, 44805\, United States
CATEGORIES:Community,Faith
ATTACH;FMTTYPE=image/png:https://gotogirlashland.com/wp-content/uploads/2026/01/ACTS-4-LOVE-sewing-event.png
END:VEVENT
BEGIN:VEVENT
DTSTART;TZID=America/New_York:20260202T193000
DTEND;TZID=America/New_York:20260202T193000
DTSTAMP:20260419T151708
CREATED:20260115T045651Z
LAST-MODIFIED:20260115T045923Z
UID:10004197-1770060600-1770060600@gotogirlashland.com
SUMMARY:Fatherhood Fire
DESCRIPTION:We’ll listen to a couple of stories and then head out for a short discovery walk to explore nature! Designed for young children (1-5yrs) & their caregivers. @ Davy McClure Outdoor Education Center. 								\n				\n				\n				\n									\n					\n						\n									Event Page
URL:https://gotogirlashland.com/event/fatherhood-fire-020226/
LOCATION:Advocates for Families\, 270 Sandusky St.\, Ashland\, OH\, 44805\, United States
CATEGORIES:Community
ATTACH;FMTTYPE=image/png:https://gotogirlashland.com/wp-content/uploads/2025/05/fatherhood-fire-1.png
END:VEVENT
BEGIN:VEVENT
DTSTART;TZID=America/New_York:20260201T200000
DTEND;TZID=America/New_York:20260201T235900
DTSTAMP:20260419T151708
CREATED:20260115T151809Z
LAST-MODIFIED:20260115T151934Z
UID:10004201-1769976000-1769990340@gotogirlashland.com
SUMMARY:Sunday Karaoke
DESCRIPTION:We’ll listen to a couple of stories and then head out for a short discovery walk to explore nature! Designed for young children (1-5yrs) & their caregivers. @ Davy McClure Outdoor Education Center. 								\n				\n				\n				\n									\n					\n						\n									Event Page
URL:https://gotogirlashland.com/event/sunday-karaoke-020126/
LOCATION:Kash Co. PourHouse (always 21+)\, 155 West Main Street\, Ashland\, OH\, 44805\, United States
CATEGORIES:Karaoke,Nightlife
ATTACH;FMTTYPE=image/jpeg:https://gotogirlashland.com/wp-content/uploads/2024/04/Karaoke.jpg
END:VEVENT
BEGIN:VEVENT
DTSTART;TZID=America/New_York:20260131T180000
DTEND;TZID=America/New_York:20260131T220000
DTSTAMP:20260419T151708
CREATED:20260103T015827Z
LAST-MODIFIED:20260104T205844Z
UID:10004186-1769882400-1769896800@gotogirlashland.com
SUMMARY:Hawaiian Winter Luau at the Castle
DESCRIPTION:We’ll listen to a couple of stories and then head out for a short discovery walk to explore nature! Designed for young children (1-5yrs) & their caregivers. @ Davy McClure Outdoor Education Center. 								\n				\n				\n				\n									\n					\n						\n									Event Page
URL:https://gotogirlashland.com/event/hawaiian-winter-luau-at-the-castle-013126/
LOCATION:Landoll’s Mohican Castle\, 561 Township Road 3352\, Loudonville\, 44842\, United States
CATEGORIES:Food & Drink,Live Entertainment,Music
ATTACH;FMTTYPE=image/jpeg:https://gotogirlashland.com/wp-content/uploads/2026/01/595083242_1299043995588917_6561157913829474176_n.png.jpeg
END:VEVENT
BEGIN:VEVENT
DTSTART;TZID=America/New_York:20260131T173000
DTEND;TZID=America/New_York:20260131T193000
DTSTAMP:20260419T151708
CREATED:20260129T035124Z
LAST-MODIFIED:20260129T035825Z
UID:10004263-1769880600-1769887800@gotogirlashland.com
SUMMARY:Healing Through Poetry Workshop
DESCRIPTION:We’ll listen to a couple of stories and then head out for a short discovery walk to explore nature! Designed for young children (1-5yrs) & their caregivers. @ Davy McClure Outdoor Education Center. 								\n				\n				\n				\n									\n					\n						\n									Event Page
URL:https://gotogirlashland.com/event/healing-through-poetry-workshop-013126/
LOCATION:Chicory Witch\, 23 W. Main St.\, Ashland\, OH\, 44805\, United States
CATEGORIES:Community
ATTACH;FMTTYPE=image/png:https://gotogirlashland.com/wp-content/uploads/2026/01/healing-through-poetry-workshop.png
END:VEVENT
BEGIN:VEVENT
DTSTART;TZID=America/New_York:20260131T150000
DTEND;TZID=America/New_York:20260131T170000
DTSTAMP:20260419T151708
CREATED:20260103T013839Z
LAST-MODIFIED:20260103T014034Z
UID:10004185-1769871600-1769878800@gotogirlashland.com
SUMMARY:Movie Matinee: How to Train Your Dragon
DESCRIPTION:We’ll listen to a couple of stories and then head out for a short discovery walk to explore nature! Designed for young children (1-5yrs) & their caregivers. @ Davy McClure Outdoor Education Center. 								\n				\n				\n				\n									\n					\n						\n									Event Page
URL:https://gotogirlashland.com/event/movie-matinee-how-to-train-your-dragon/
LOCATION:Ashland Public Library
CATEGORIES:Family Activities,Kids,Library,Movies
ATTACH;FMTTYPE=image/png:https://gotogirlashland.com/wp-content/uploads/2025/09/library-movie-matinee.png
END:VEVENT
BEGIN:VEVENT
DTSTART;TZID=America/New_York:20260130T220000
DTEND;TZID=America/New_York:20260130T220000
DTSTAMP:20260419T151708
CREATED:20251221T053146Z
LAST-MODIFIED:20251221T220433Z
UID:10004133-1769810400-1769810400@gotogirlashland.com
SUMMARY:Karaoke at Bullshooters
DESCRIPTION:We’ll listen to a couple of stories and then head out for a short discovery walk to explore nature! Designed for young children (1-5yrs) & their caregivers. @ Davy McClure Outdoor Education Center. 								\n				\n				\n				\n									\n					\n						\n									Event Page
URL:https://gotogirlashland.com/event/karaoke-at-bullshooters-013026/
LOCATION:Bullshooters\, 35 East Main Street\, Ashland\, OH\, 44805\, United States
CATEGORIES:Karaoke,Nightlife
ATTACH;FMTTYPE=image/jpeg:https://gotogirlashland.com/wp-content/uploads/2024/11/Karaoke-Bullshooters.jpg
END:VEVENT
BEGIN:VEVENT
DTSTART;TZID=America/New_York:20260130T180000
DTEND;TZID=America/New_York:20260130T210000
DTSTAMP:20260419T151708
CREATED:20260129T025500Z
LAST-MODIFIED:20260129T025647Z
UID:10004262-1769796000-1769806800@gotogirlashland.com
SUMMARY:Tom's Kitchen Table
DESCRIPTION:We’ll listen to a couple of stories and then head out for a short discovery walk to explore nature! Designed for young children (1-5yrs) & their caregivers. @ Davy McClure Outdoor Education Center. 								\n				\n				\n				\n									\n					\n						\n									Event Page
URL:https://gotogirlashland.com/event/toms-kitchen-table-013026/
LOCATION:Uniontown Brewing Co\, 105 West Main Street\, Ashland\, OH\, 44805\, United States
CATEGORIES:Live Entertainment,Music
ATTACH;FMTTYPE=image/jpeg:https://gotogirlashland.com/wp-content/uploads/2024/10/Toms-Kitchen-Table-Band.jpg
END:VEVENT
BEGIN:VEVENT
DTSTART;TZID=America/New_York:20260130T170000
DTEND;TZID=America/New_York:20260130T190000
DTSTAMP:20260419T151708
CREATED:20260118T234307Z
LAST-MODIFIED:20260118T234503Z
UID:10004228-1769792400-1769799600@gotogirlashland.com
SUMMARY:Final Friday - January "It Is Snow Much Fun to be Downtown!"
DESCRIPTION:We’ll listen to a couple of stories and then head out for a short discovery walk to explore nature! Designed for young children (1-5yrs) & their caregivers. @ Davy McClure Outdoor Education Center. 								\n				\n				\n				\n									\n					\n						\n									Event Page
URL:https://gotogirlashland.com/event/final-friday-january-it-is-snow-much-fun-to-be-downtown-013026/
LOCATION:Ashland Main Street\, 143 1/2 A West Main Street\, Ashland\, OH\, 44805\, United States
CATEGORIES:Community,DORA,Food & Drink,Shopping
ATTACH;FMTTYPE=image/jpeg:https://gotogirlashland.com/wp-content/uploads/2026/01/jan-final-friday.jpg
END:VEVENT
BEGIN:VEVENT
DTSTART;TZID=America/New_York:20260130T120000
DTEND;TZID=America/New_York:20260130T130000
DTSTAMP:20260419T151708
CREATED:20260103T011730Z
LAST-MODIFIED:20260118T212751Z
UID:10004184-1769774400-1769778000@gotogirlashland.com
SUMMARY:Community Conversations Book Club
DESCRIPTION:We’ll listen to a couple of stories and then head out for a short discovery walk to explore nature! Designed for young children (1-5yrs) & their caregivers. @ Davy McClure Outdoor Education Center. 								\n				\n				\n				\n									\n					\n						\n									Event Page
URL:https://gotogirlashland.com/event/community-conversations-book-club-013126/
LOCATION:Archer Library XR Conference Room
CATEGORIES:Community,Library
ATTACH;FMTTYPE=image/png:https://gotogirlashland.com/wp-content/uploads/2024/09/Community-Conversations-Book-Discussion-1.png
END:VEVENT
BEGIN:VEVENT
DTSTART;TZID=UTC:20260129T190000
DTEND;TZID=UTC:20260129T210000
DTSTAMP:20260419T151708
CREATED:20251221T050024Z
LAST-MODIFIED:20251221T050024Z
UID:10004128-1769713200-1769720400@gotogirlashland.com
SUMMARY:Thursday Trivia Night
DESCRIPTION:We’ll listen to a couple of stories and then head out for a short discovery walk to explore nature! Designed for young children (1-5yrs) & their caregivers. @ Davy McClure Outdoor Education Center. 								\n				\n				\n				\n									\n					\n						\n									Event Page
URL:https://gotogirlashland.com/event/thursday-trivia-night-012926/
LOCATION:Joan’s Tavern\, 165 Union Street\, Ashland\, OH\, 44805\, United States
CATEGORIES:Nightlife,Trivia
ATTACH;FMTTYPE=image/jpeg:https://gotogirlashland.com/wp-content/uploads/2024/01/6fd46c59-c71f-432f-aa72-f7a13655df98.jpg
END:VEVENT
BEGIN:VEVENT
DTSTART;TZID=UTC:20260129T180000
DTEND;TZID=UTC:20260129T193000
DTSTAMP:20260419T151708
CREATED:20260116T011706Z
LAST-MODIFIED:20260116T013518Z
UID:10004224-1769709600-1769715000@gotogirlashland.com
SUMMARY:Cookie Decorating Class
DESCRIPTION:We’ll listen to a couple of stories and then head out for a short discovery walk to explore nature! Designed for young children (1-5yrs) & their caregivers. @ Davy McClure Outdoor Education Center. 								\n				\n				\n				\n									\n					\n						\n									Event Page
URL:https://gotogirlashland.com/event/cookie-decorating-class-012926/
LOCATION:BLOOM Nutrition and drink bar\, 126 East Main St\, Ashland\, OH\, 44805\, United States
CATEGORIES:Community,Crafts,Food & Drink,Shopping
ATTACH;FMTTYPE=image/png:https://gotogirlashland.com/wp-content/uploads/2026/01/cookie-decorating-at-bloom.png
END:VEVENT
END:VCALENDAR