BEGIN:VCALENDAR
VERSION:2.0
PRODID:-//Go To Girl Of Ashland - ECPv6.15.20//NONSGML v1.0//EN
CALSCALE:GREGORIAN
METHOD:PUBLISH
X-ORIGINAL-URL:https://gotogirlashland.com
X-WR-CALDESC:Events for Go To Girl Of Ashland
REFRESH-INTERVAL;VALUE=DURATION:PT1H
X-Robots-Tag:noindex
X-PUBLISHED-TTL:PT1H
BEGIN:VTIMEZONE
TZID:America/New_York
BEGIN:DAYLIGHT
TZOFFSETFROM:-0500
TZOFFSETTO:-0400
TZNAME:EDT
DTSTART:20250309T070000
END:DAYLIGHT
BEGIN:STANDARD
TZOFFSETFROM:-0400
TZOFFSETTO:-0500
TZNAME:EST
DTSTART:20251102T060000
END:STANDARD
BEGIN:DAYLIGHT
TZOFFSETFROM:-0500
TZOFFSETTO:-0400
TZNAME:EDT
DTSTART:20260308T070000
END:DAYLIGHT
BEGIN:STANDARD
TZOFFSETFROM:-0400
TZOFFSETTO:-0500
TZNAME:EST
DTSTART:20261101T060000
END:STANDARD
BEGIN:DAYLIGHT
TZOFFSETFROM:-0500
TZOFFSETTO:-0400
TZNAME:EDT
DTSTART:20270314T070000
END:DAYLIGHT
BEGIN:STANDARD
TZOFFSETFROM:-0400
TZOFFSETTO:-0500
TZNAME:EST
DTSTART:20271107T060000
END:STANDARD
END:VTIMEZONE
BEGIN:VTIMEZONE
TZID:UTC
BEGIN:STANDARD
TZOFFSETFROM:+0000
TZOFFSETTO:+0000
TZNAME:UTC
DTSTART:20250101T000000
END:STANDARD
END:VTIMEZONE
BEGIN:VEVENT
DTSTART;TZID=America/New_York:20260218T180000
DTEND;TZID=America/New_York:20260218T203000
DTSTAMP:20260419T115740
CREATED:20260127T040644Z
LAST-MODIFIED:20260127T041000Z
UID:10004260-1771437600-1771446600@gotogirlashland.com
SUMMARY:Women & Whiskey
DESCRIPTION:We’ll listen to a couple of stories and then head out for a short discovery walk to explore nature! Designed for young children (1-5yrs) & their caregivers. @ Davy McClure Outdoor Education Center. 								\n				\n				\n				\n									\n					\n						\n									Event Page
URL:https://gotogirlashland.com/event/women-whiskey-021826/
LOCATION:Luna\, 121 South Street\, Ashland\, OH\, 44805\, United States
CATEGORIES:Food & Drink,Nightlife,Shopping
ATTACH;FMTTYPE=image/avif:https://gotogirlashland.com/wp-content/uploads/2026/01/women-and-whiskey.avif
END:VEVENT
BEGIN:VEVENT
DTSTART;TZID=America/New_York:20260218T190000
DTEND;TZID=America/New_York:20260218T190000
DTSTAMP:20260419T115740
CREATED:20260127T041951Z
LAST-MODIFIED:20260127T042324Z
UID:10004261-1771441200-1771441200@gotogirlashland.com
SUMMARY:Cupid's Final Arrow - Valentine's Murder Mystery
DESCRIPTION:We’ll listen to a couple of stories and then head out for a short discovery walk to explore nature! Designed for young children (1-5yrs) & their caregivers. @ Davy McClure Outdoor Education Center. 								\n				\n				\n				\n									\n					\n						\n									Event Page
URL:https://gotogirlashland.com/event/cupids-final-arrow-valentines-murder-mystery-021826/
LOCATION:Masterminds Escape Room and Game Library\, 33 W. Main St.\, Ashland\, OH\, United States
CATEGORIES:Community,Holiday,Live Entertainment
ATTACH;FMTTYPE=image/avif:https://gotogirlashland.com/wp-content/uploads/2026/01/cupid-murder-mystery.avif
END:VEVENT
BEGIN:VEVENT
DTSTART;TZID=America/New_York:20260218T190000
DTEND;TZID=America/New_York:20260218T203000
DTSTAMP:20260419T115740
CREATED:20260115T154100Z
LAST-MODIFIED:20260115T154128Z
UID:10004207-1771441200-1771446600@gotogirlashland.com
SUMMARY:Wednesday Trivia Night
DESCRIPTION:We’ll listen to a couple of stories and then head out for a short discovery walk to explore nature! Designed for young children (1-5yrs) & their caregivers. @ Davy McClure Outdoor Education Center. 								\n				\n				\n				\n									\n					\n						\n									Event Page
URL:https://gotogirlashland.com/event/wednesday-trivia-night-021826/
LOCATION:Kash Co. PourHouse (always 21+)\, 155 West Main Street\, Ashland\, OH\, 44805\, United States
CATEGORIES:Nightlife,Trivia
ATTACH;FMTTYPE=image/jpeg:https://gotogirlashland.com/wp-content/uploads/2024/04/trivia_night_2.jpg
END:VEVENT
BEGIN:VEVENT
DTSTART;TZID=UTC:20260219T190000
DTEND;TZID=UTC:20260219T210000
DTSTAMP:20260419T115740
CREATED:20260115T155311Z
LAST-MODIFIED:20260115T155336Z
UID:10004211-1771527600-1771534800@gotogirlashland.com
SUMMARY:Thursday Trivia Night
DESCRIPTION:We’ll listen to a couple of stories and then head out for a short discovery walk to explore nature! Designed for young children (1-5yrs) & their caregivers. @ Davy McClure Outdoor Education Center. 								\n				\n				\n				\n									\n					\n						\n									Event Page
URL:https://gotogirlashland.com/event/thursday-trivia-night-021926/
LOCATION:Joan’s Tavern\, 165 Union Street\, Ashland\, OH\, 44805\, United States
CATEGORIES:Nightlife,Trivia
ATTACH;FMTTYPE=image/jpeg:https://gotogirlashland.com/wp-content/uploads/2024/01/6fd46c59-c71f-432f-aa72-f7a13655df98.jpg
END:VEVENT
BEGIN:VEVENT
DTSTART;TZID=America/New_York:20260220T100000
DTEND;TZID=America/New_York:20260220T110000
DTSTAMP:20260419T115740
CREATED:20260202T014511Z
LAST-MODIFIED:20260202T015851Z
UID:10004265-1771581600-1771585200@gotogirlashland.com
SUMMARY:Crafting Connections
DESCRIPTION:We’ll listen to a couple of stories and then head out for a short discovery walk to explore nature! Designed for young children (1-5yrs) & their caregivers. @ Davy McClure Outdoor Education Center. 								\n				\n				\n				\n									\n					\n						\n									Event Page
URL:https://gotogirlashland.com/event/crafting-connections-022026/
LOCATION:Ashland Public Library
CATEGORIES:Art,Community,Crafts,Library
ATTACH;FMTTYPE=image/png:https://gotogirlashland.com/wp-content/uploads/2025/04/Crafting-Connections.png
END:VEVENT
BEGIN:VEVENT
DTSTART;TZID=America/New_York:20260220T170000
DTEND;TZID=America/New_York:20260220T190000
DTSTAMP:20260419T115740
CREATED:20260202T020209Z
LAST-MODIFIED:20260202T020401Z
UID:10004266-1771606800-1771614000@gotogirlashland.com
SUMMARY:Family Fun Night
DESCRIPTION:We’ll listen to a couple of stories and then head out for a short discovery walk to explore nature! Designed for young children (1-5yrs) & their caregivers. @ Davy McClure Outdoor Education Center. 								\n				\n				\n				\n									\n					\n						\n									Event Page
URL:https://gotogirlashland.com/event/family-fun-night-022026/
LOCATION:Ashland Kroc Center\, 527 E. Liberty St\, Ashland\, 44805\, United States
CATEGORIES:Family Activities,Kids,Kroc Center
ATTACH;FMTTYPE=image/jpeg:https://gotogirlashland.com/wp-content/uploads/2025/09/kroc-family-night.jpg
END:VEVENT
BEGIN:VEVENT
DTSTART;TZID=America/New_York:20260220T180000
DTEND;TZID=America/New_York:20260220T230000
DTSTAMP:20260419T115740
CREATED:20260202T021321Z
LAST-MODIFIED:20260202T021939Z
UID:10004267-1771610400-1771628400@gotogirlashland.com
SUMMARY:Tom Arnold Live! Dinner & Comedy at the Castle
DESCRIPTION:We’ll listen to a couple of stories and then head out for a short discovery walk to explore nature! Designed for young children (1-5yrs) & their caregivers. @ Davy McClure Outdoor Education Center. 								\n				\n				\n				\n									\n					\n						\n									Event Page
URL:https://gotogirlashland.com/event/tom-arnold-live-dinner-comedy-at-the-castle-022026/
LOCATION:Landoll’s Mohican Castle\, 561 Township Road 3352\, Loudonville\, 44842\, United States
CATEGORIES:Live Entertainment,Nightlife
ATTACH;FMTTYPE=image/avif:https://gotogirlashland.com/wp-content/uploads/2026/02/571225683_1257428919750425_7066354175707886727_n-scaled.avif
END:VEVENT
BEGIN:VEVENT
DTSTART;TZID=America/New_York:20260220T190000
DTEND;TZID=America/New_York:20260220T190000
DTSTAMP:20260419T115740
CREATED:20260205T025652Z
LAST-MODIFIED:20260205T030524Z
UID:10004279-1771614000-1771614000@gotogirlashland.com
SUMMARY:Joseph and the Amazing Technicolor Dreamcoat
DESCRIPTION:We’ll listen to a couple of stories and then head out for a short discovery walk to explore nature! Designed for young children (1-5yrs) & their caregivers. @ Davy McClure Outdoor Education Center. 								\n				\n				\n				\n									\n					\n						\n									Event Page
URL:https://gotogirlashland.com/event/joseph-and-the-amazing-technicolor-dreamcoat-022026/
LOCATION:Archer Auditorium\, 1440 King Road\, Ashland\, OH\, 44805\, United States
CATEGORIES:Live Entertainment,Music,Theater/Ballet
ATTACH;FMTTYPE=image/avif:https://gotogirlashland.com/wp-content/uploads/2026/02/joseph2.avif
END:VEVENT
BEGIN:VEVENT
DTSTART;TZID=America/New_York:20260220T190000
DTEND;TZID=America/New_York:20260220T220000
DTSTAMP:20260419T115740
CREATED:20260202T025353Z
LAST-MODIFIED:20260202T025511Z
UID:10004270-1771614000-1771624800@gotogirlashland.com
SUMMARY:Steve & Sam
DESCRIPTION:We’ll listen to a couple of stories and then head out for a short discovery walk to explore nature! Designed for young children (1-5yrs) & their caregivers. @ Davy McClure Outdoor Education Center. 								\n				\n				\n				\n									\n					\n						\n									Event Page
URL:https://gotogirlashland.com/event/steve-sam-022026/
LOCATION:Kash Co. PourHouse (always 21+)\, 155 West Main Street\, Ashland\, OH\, 44805\, United States
CATEGORIES:Live Entertainment,Music,Nightlife
ATTACH;FMTTYPE=image/png:https://gotogirlashland.com/wp-content/uploads/2025/12/steve-and-sam.png
END:VEVENT
BEGIN:VEVENT
DTSTART;TZID=America/New_York:20260220T220000
DTEND;TZID=America/New_York:20260220T220000
DTSTAMP:20260419T115740
CREATED:20260115T161455Z
LAST-MODIFIED:20260115T161527Z
UID:10004217-1771624800-1771624800@gotogirlashland.com
SUMMARY:Karaoke at Bullshooters
DESCRIPTION:We’ll listen to a couple of stories and then head out for a short discovery walk to explore nature! Designed for young children (1-5yrs) & their caregivers. @ Davy McClure Outdoor Education Center. 								\n				\n				\n				\n									\n					\n						\n									Event Page
URL:https://gotogirlashland.com/event/karaoke-at-bullshooters-022026/
LOCATION:Bullshooters\, 35 East Main Street\, Ashland\, OH\, 44805\, United States
CATEGORIES:Karaoke,Nightlife
ATTACH;FMTTYPE=image/jpeg:https://gotogirlashland.com/wp-content/uploads/2024/11/Karaoke-Bullshooters.jpg
END:VEVENT
BEGIN:VEVENT
DTSTART;TZID=America/New_York:20260221T090000
DTEND;TZID=America/New_York:20260221T150000
DTSTAMP:20260419T115740
CREATED:20260202T025855Z
LAST-MODIFIED:20260202T025855Z
UID:10004271-1771664400-1771686000@gotogirlashland.com
SUMMARY:Flea Market and Crafts
DESCRIPTION:We’ll listen to a couple of stories and then head out for a short discovery walk to explore nature! Designed for young children (1-5yrs) & their caregivers. @ Davy McClure Outdoor Education Center. 								\n				\n				\n				\n									\n					\n						\n									Event Page
URL:https://gotogirlashland.com/event/flea-market-and-crafts-022126/
LOCATION:Ashland County Fairgrounds\, 2042 Claremont Avenue\, Ashland\, OH\, 44805\, United States
CATEGORIES:Craft Show,Fairgrounds,Shopping,Vendor Market
ATTACH;FMTTYPE=image/png:https://gotogirlashland.com/wp-content/uploads/2026/01/Flea-Market-Crafts-2026.png
END:VEVENT
BEGIN:VEVENT
DTSTART;TZID=America/New_York:20260221T100000
DTEND;TZID=America/New_York:20260221T110000
DTSTAMP:20260419T115740
CREATED:20260202T030340Z
LAST-MODIFIED:20260202T030626Z
UID:10004272-1771668000-1771671600@gotogirlashland.com
SUMMARY:Coffee & Books - The Book Club for Troublesome Women by Marie Bostwick
DESCRIPTION:We’ll listen to a couple of stories and then head out for a short discovery walk to explore nature! Designed for young children (1-5yrs) & their caregivers. @ Davy McClure Outdoor Education Center. 								\n				\n				\n				\n									\n					\n						\n									Event Page
URL:https://gotogirlashland.com/event/coffee-books-the-book-club-for-troublesome-women-by-marie-bostwick-022126/
LOCATION:Ashland Public Library
CATEGORIES:Community,Library
ATTACH;FMTTYPE=image/png:https://gotogirlashland.com/wp-content/uploads/2025/09/coffee-books.png
END:VEVENT
BEGIN:VEVENT
DTSTART;TZID=America/New_York:20260221T113000
DTEND;TZID=America/New_York:20260221T143000
DTSTAMP:20260419T115740
CREATED:20260202T023636Z
LAST-MODIFIED:20260202T024318Z
UID:10004269-1771673400-1771684200@gotogirlashland.com
SUMMARY:Tom Arnold Live! Lunch & Comedy at the Castle
DESCRIPTION:We’ll listen to a couple of stories and then head out for a short discovery walk to explore nature! Designed for young children (1-5yrs) & their caregivers. @ Davy McClure Outdoor Education Center. 								\n				\n				\n				\n									\n					\n						\n									Event Page
URL:https://gotogirlashland.com/event/tom-arnold-live-lunch-comedy-at-the-castle-022126/
LOCATION:Landoll’s Mohican Castle\, 561 Township Road 3352\, Loudonville\, 44842\, United States
CATEGORIES:Live Entertainment,Nightlife
ATTACH;FMTTYPE=image/avif:https://gotogirlashland.com/wp-content/uploads/2026/02/571225683_1257428919750425_7066354175707886727_n-scaled.avif
END:VEVENT
BEGIN:VEVENT
DTSTART;TZID=America/New_York:20260221T120000
DTEND;TZID=America/New_York:20260221T210000
DTSTAMP:20260419T115740
CREATED:20260202T031535Z
LAST-MODIFIED:20260202T032508Z
UID:10004273-1771675200-1771707600@gotogirlashland.com
SUMMARY:Bluegrass Benefit for Stacy Wilcox
DESCRIPTION:We’ll listen to a couple of stories and then head out for a short discovery walk to explore nature! Designed for young children (1-5yrs) & their caregivers. @ Davy McClure Outdoor Education Center. 								\n				\n				\n				\n									\n					\n						\n									Event Page
URL:https://gotogirlashland.com/event/bluegrass-benefit-for-stacy-wilcox-022126/
LOCATION:The Ashland Theatre\, 212 Center St\, Ashland\, 44805\, United States
CATEGORIES:Fundraising,Live Entertainment,Music
ATTACH;FMTTYPE=image/avif:https://gotogirlashland.com/wp-content/uploads/2026/02/stacy-wilcox-benefit.avif
END:VEVENT
BEGIN:VEVENT
DTSTART;TZID=America/New_York:20260221T180000
DTEND;TZID=America/New_York:20260221T230000
DTSTAMP:20260419T115740
CREATED:20260202T022307Z
LAST-MODIFIED:20260202T023032Z
UID:10004268-1771696800-1771714800@gotogirlashland.com
SUMMARY:Tom Arnold Live! Dinner & Comedy at the Castle
DESCRIPTION:We’ll listen to a couple of stories and then head out for a short discovery walk to explore nature! Designed for young children (1-5yrs) & their caregivers. @ Davy McClure Outdoor Education Center. 								\n				\n				\n				\n									\n					\n						\n									Event Page
URL:https://gotogirlashland.com/event/tom-arnold-live-dinner-comedy-at-the-castle-022126/
LOCATION:Landoll’s Mohican Castle\, 561 Township Road 3352\, Loudonville\, 44842\, United States
CATEGORIES:Live Entertainment,Nightlife
ATTACH;FMTTYPE=image/avif:https://gotogirlashland.com/wp-content/uploads/2026/02/571225683_1257428919750425_7066354175707886727_n-scaled.avif
END:VEVENT
BEGIN:VEVENT
DTSTART;TZID=America/New_York:20260221T190000
DTEND;TZID=America/New_York:20260221T190000
DTSTAMP:20260419T115740
CREATED:20260205T030721Z
LAST-MODIFIED:20260205T030721Z
UID:10004280-1771700400-1771700400@gotogirlashland.com
SUMMARY:Joseph and the Amazing Technicolor Dreamcoat
DESCRIPTION:We’ll listen to a couple of stories and then head out for a short discovery walk to explore nature! Designed for young children (1-5yrs) & their caregivers. @ Davy McClure Outdoor Education Center. 								\n				\n				\n				\n									\n					\n						\n									Event Page
URL:https://gotogirlashland.com/event/joseph-and-the-amazing-technicolor-dreamcoat-022126/
LOCATION:Archer Auditorium\, 1440 King Road\, Ashland\, OH\, 44805\, United States
CATEGORIES:Live Entertainment,Music,Theater/Ballet
ATTACH;FMTTYPE=image/avif:https://gotogirlashland.com/wp-content/uploads/2026/02/joseph2.avif
END:VEVENT
BEGIN:VEVENT
DTSTART;TZID=America/New_York:20260221T220000
DTEND;TZID=America/New_York:20260221T220000
DTSTAMP:20260419T115740
CREATED:20260115T162044Z
LAST-MODIFIED:20260115T162111Z
UID:10004218-1771711200-1771711200@gotogirlashland.com
SUMMARY:Karaoke at Bullshooters
DESCRIPTION:We’ll listen to a couple of stories and then head out for a short discovery walk to explore nature! Designed for young children (1-5yrs) & their caregivers. @ Davy McClure Outdoor Education Center. 								\n				\n				\n				\n									\n					\n						\n									Event Page
URL:https://gotogirlashland.com/event/karaoke-at-bullshooters-022126/
LOCATION:Bullshooters\, 35 East Main Street\, Ashland\, OH\, 44805\, United States
CATEGORIES:Karaoke,Nightlife
ATTACH;FMTTYPE=image/jpeg:https://gotogirlashland.com/wp-content/uploads/2024/11/Karaoke-Bullshooters.jpg
END:VEVENT
BEGIN:VEVENT
DTSTART;TZID=America/New_York:20260222T140000
DTEND;TZID=America/New_York:20260222T140000
DTSTAMP:20260419T115740
CREATED:20260205T031225Z
LAST-MODIFIED:20260205T031401Z
UID:10004281-1771768800-1771768800@gotogirlashland.com
SUMMARY:Joseph and the Amazing Technicolor Dreamcoat
DESCRIPTION:We’ll listen to a couple of stories and then head out for a short discovery walk to explore nature! Designed for young children (1-5yrs) & their caregivers. @ Davy McClure Outdoor Education Center. 								\n				\n				\n				\n									\n					\n						\n									Event Page
URL:https://gotogirlashland.com/event/joseph-and-the-amazing-technicolor-dreamcoat-022226/
LOCATION:Archer Auditorium\, 1440 King Road\, Ashland\, OH\, 44805\, United States
CATEGORIES:Live Entertainment,Music,Theater/Ballet
ATTACH;FMTTYPE=image/avif:https://gotogirlashland.com/wp-content/uploads/2026/02/joseph2.avif
END:VEVENT
BEGIN:VEVENT
DTSTART;TZID=America/New_York:20260222T200000
DTEND;TZID=America/New_York:20260222T235900
DTSTAMP:20260419T115740
CREATED:20260115T153003Z
LAST-MODIFIED:20260115T153025Z
UID:10004204-1771790400-1771804740@gotogirlashland.com
SUMMARY:Sunday Karaoke
DESCRIPTION:We’ll listen to a couple of stories and then head out for a short discovery walk to explore nature! Designed for young children (1-5yrs) & their caregivers. @ Davy McClure Outdoor Education Center. 								\n				\n				\n				\n									\n					\n						\n									Event Page
URL:https://gotogirlashland.com/event/sunday-karaoke-022226/
LOCATION:Kash Co. PourHouse (always 21+)\, 155 West Main Street\, Ashland\, OH\, 44805\, United States
CATEGORIES:Karaoke,Nightlife
ATTACH;FMTTYPE=image/jpeg:https://gotogirlashland.com/wp-content/uploads/2024/04/Karaoke.jpg
END:VEVENT
BEGIN:VEVENT
DTSTART;TZID=America/New_York:20260225T190000
DTEND;TZID=America/New_York:20260225T203000
DTSTAMP:20260419T115740
CREATED:20260115T154334Z
LAST-MODIFIED:20260115T154405Z
UID:10004208-1772046000-1772051400@gotogirlashland.com
SUMMARY:Wednesday Trivia Night
DESCRIPTION:We’ll listen to a couple of stories and then head out for a short discovery walk to explore nature! Designed for young children (1-5yrs) & their caregivers. @ Davy McClure Outdoor Education Center. 								\n				\n				\n				\n									\n					\n						\n									Event Page
URL:https://gotogirlashland.com/event/wednesday-trivia-night-022526/
LOCATION:Kash Co. PourHouse (always 21+)\, 155 West Main Street\, Ashland\, OH\, 44805\, United States
CATEGORIES:Nightlife,Trivia
ATTACH;FMTTYPE=image/jpeg:https://gotogirlashland.com/wp-content/uploads/2024/04/trivia_night_2.jpg
END:VEVENT
BEGIN:VEVENT
DTSTART;TZID=UTC:20260226T190000
DTEND;TZID=UTC:20260226T210000
DTSTAMP:20260419T115740
CREATED:20260115T155530Z
LAST-MODIFIED:20260115T155615Z
UID:10004212-1772132400-1772139600@gotogirlashland.com
SUMMARY:Thursday Trivia Night
DESCRIPTION:We’ll listen to a couple of stories and then head out for a short discovery walk to explore nature! Designed for young children (1-5yrs) & their caregivers. @ Davy McClure Outdoor Education Center. 								\n				\n				\n				\n									\n					\n						\n									Event Page
URL:https://gotogirlashland.com/event/thursday-trivia-night-022626/
LOCATION:Joan’s Tavern\, 165 Union Street\, Ashland\, OH\, 44805\, United States
CATEGORIES:Nightlife,Trivia
ATTACH;FMTTYPE=image/jpeg:https://gotogirlashland.com/wp-content/uploads/2024/01/6fd46c59-c71f-432f-aa72-f7a13655df98.jpg
END:VEVENT
BEGIN:VEVENT
DTSTART;TZID=America/New_York:20260227T170000
DTEND;TZID=America/New_York:20260227T190000
DTSTAMP:20260419T115740
CREATED:20260202T032837Z
LAST-MODIFIED:20260202T033029Z
UID:10004274-1772211600-1772218800@gotogirlashland.com
SUMMARY:Family Skate Night
DESCRIPTION:We’ll listen to a couple of stories and then head out for a short discovery walk to explore nature! Designed for young children (1-5yrs) & their caregivers. @ Davy McClure Outdoor Education Center. 								\n				\n				\n				\n									\n					\n						\n									Event Page
URL:https://gotogirlashland.com/event/family-skate-night-022726/
LOCATION:Ashland Kroc Center\, 527 E. Liberty St\, Ashland\, 44805\, United States
CATEGORIES:Family Activities,Kids,Kroc Center
ATTACH;FMTTYPE=image/jpeg:https://gotogirlashland.com/wp-content/uploads/2026/01/family-skate-night-2026.jpg
END:VEVENT
BEGIN:VEVENT
DTSTART;TZID=America/New_York:20260227T180000
DTEND;TZID=America/New_York:20260227T203000
DTSTAMP:20260419T115740
CREATED:20260202T033637Z
LAST-MODIFIED:20260202T033931Z
UID:10004275-1772215200-1772224200@gotogirlashland.com
SUMMARY:Enchanted Winter Spirits Banquet
DESCRIPTION:We’ll listen to a couple of stories and then head out for a short discovery walk to explore nature! Designed for young children (1-5yrs) & their caregivers. @ Davy McClure Outdoor Education Center. 								\n				\n				\n				\n									\n					\n						\n									Event Page
URL:https://gotogirlashland.com/event/enchanted-winter-spirits-banquet-022726/
LOCATION:Landoll’s Mohican Castle\, 561 Township Road 3352\, Loudonville\, OH\, 44842\, United States
CATEGORIES:Food & Drink,Shopping
ATTACH;FMTTYPE=image/avif:https://gotogirlashland.com/wp-content/uploads/2026/02/596048930_1298913555601961_983216357522741840_n-scaled.avif
END:VEVENT
BEGIN:VEVENT
DTSTART;TZID=America/New_York:20260227T190000
DTEND;TZID=America/New_York:20260227T220000
DTSTAMP:20260419T115740
CREATED:20260202T035311Z
LAST-MODIFIED:20260202T035418Z
UID:10004277-1772218800-1772229600@gotogirlashland.com
SUMMARY:Tom's Kitchen Table
DESCRIPTION:We’ll listen to a couple of stories and then head out for a short discovery walk to explore nature! Designed for young children (1-5yrs) & their caregivers. @ Davy McClure Outdoor Education Center. 								\n				\n				\n				\n									\n					\n						\n									Event Page
URL:https://gotogirlashland.com/event/toms-kitchen-table-022726/
LOCATION:Uniontown Brewing Co\, 105 West Main Street\, Ashland\, OH\, 44805\, United States
CATEGORIES:Live Entertainment,Music
ATTACH;FMTTYPE=image/jpeg:https://gotogirlashland.com/wp-content/uploads/2024/10/Toms-Kitchen-Table-Band.jpg
END:VEVENT
BEGIN:VEVENT
DTSTART;TZID=America/New_York:20260227T220000
DTEND;TZID=America/New_York:20260227T220000
DTSTAMP:20260419T115740
CREATED:20260115T162558Z
LAST-MODIFIED:20260115T162628Z
UID:10004219-1772229600-1772229600@gotogirlashland.com
SUMMARY:Karaoke at Bullshooters
DESCRIPTION:We’ll listen to a couple of stories and then head out for a short discovery walk to explore nature! Designed for young children (1-5yrs) & their caregivers. @ Davy McClure Outdoor Education Center. 								\n				\n				\n				\n									\n					\n						\n									Event Page
URL:https://gotogirlashland.com/event/karaoke-at-bullshooters-022726/
LOCATION:Bullshooters\, 35 East Main Street\, Ashland\, OH\, 44805\, United States
CATEGORIES:Karaoke,Nightlife
ATTACH;FMTTYPE=image/jpeg:https://gotogirlashland.com/wp-content/uploads/2024/11/Karaoke-Bullshooters.jpg
END:VEVENT
BEGIN:VEVENT
DTSTART;TZID=America/New_York:20260228T090000
DTEND;TZID=America/New_York:20260228T110000
DTSTAMP:20260419T115740
CREATED:20260115T051600Z
LAST-MODIFIED:20260115T051621Z
UID:10004200-1772269200-1772276400@gotogirlashland.com
SUMMARY:Bird Walk at Byers Woods
DESCRIPTION:We’ll listen to a couple of stories and then head out for a short discovery walk to explore nature! Designed for young children (1-5yrs) & their caregivers. @ Davy McClure Outdoor Education Center. 								\n				\n				\n				\n									\n					\n						\n									Event Page
URL:https://gotogirlashland.com/event/bird-walk-at-byers-woods-022826/
LOCATION:Byers Woods\, 675 County Road 1754\, Ashland\, OH\, 44805\, United States
CATEGORIES:Community,Outdoors,Running, Biking & Hiking
ATTACH;FMTTYPE=image/jpeg:https://gotogirlashland.com/wp-content/uploads/2025/04/bird-walk-byers-woods.jpg
END:VEVENT
BEGIN:VEVENT
DTSTART;TZID=America/New_York:20260228T150000
DTEND;TZID=America/New_York:20260228T180000
DTSTAMP:20260419T115740
CREATED:20260202T034408Z
LAST-MODIFIED:20260202T034842Z
UID:10004276-1772290800-1772301600@gotogirlashland.com
SUMMARY:Board Game Cafe
DESCRIPTION:We’ll listen to a couple of stories and then head out for a short discovery walk to explore nature! Designed for young children (1-5yrs) & their caregivers. @ Davy McClure Outdoor Education Center. 								\n				\n				\n				\n									\n					\n						\n									Event Page
URL:https://gotogirlashland.com/event/board-game-cafe-022826/
LOCATION:Ashland Public Library
CATEGORIES:Community,Family Activities,Library
ATTACH;FMTTYPE=image/png:https://gotogirlashland.com/wp-content/uploads/2025/12/Untitled-design-10.png
END:VEVENT
BEGIN:VEVENT
DTSTART;TZID=America/New_York:20260228T190000
DTEND;TZID=America/New_York:20260228T223000
DTSTAMP:20260419T115740
CREATED:20260202T040140Z
LAST-MODIFIED:20260202T040343Z
UID:10004278-1772305200-1772317800@gotogirlashland.com
SUMMARY:Dueling Pianos Dinner Party
DESCRIPTION:We’ll listen to a couple of stories and then head out for a short discovery walk to explore nature! Designed for young children (1-5yrs) & their caregivers. @ Davy McClure Outdoor Education Center. 								\n				\n				\n				\n									\n					\n						\n									Event Page
URL:https://gotogirlashland.com/event/dueling-pianos-dinner-party-022826/
LOCATION:Landoll’s Mohican Castle\, 561 Township Road 3352\, Loudonville\, OH\, 44842\, United States
CATEGORIES:Live Entertainment,Music,Nightlife
ATTACH;FMTTYPE=image/png:https://gotogirlashland.com/wp-content/uploads/2025/07/dueling-pianos.png
END:VEVENT
BEGIN:VEVENT
DTSTART;TZID=America/New_York:20260228T220000
DTEND;TZID=America/New_York:20260228T220000
DTSTAMP:20260419T115740
CREATED:20260115T162827Z
LAST-MODIFIED:20260115T162929Z
UID:10004220-1772316000-1772316000@gotogirlashland.com
SUMMARY:Karaoke at Bullshooters
DESCRIPTION:We’ll listen to a couple of stories and then head out for a short discovery walk to explore nature! Designed for young children (1-5yrs) & their caregivers. @ Davy McClure Outdoor Education Center. 								\n				\n				\n				\n									\n					\n						\n									Event Page
URL:https://gotogirlashland.com/event/karaoke-at-bullshooters-022826/
LOCATION:Bullshooters\, 35 East Main Street\, Ashland\, OH\, 44805\, United States
CATEGORIES:Karaoke,Nightlife
ATTACH;FMTTYPE=image/jpeg:https://gotogirlashland.com/wp-content/uploads/2024/11/Karaoke-Bullshooters.jpg
END:VEVENT
END:VCALENDAR