BEGIN:VCALENDAR
VERSION:2.0
PRODID:-//Go To Girl Of Ashland - ECPv6.15.20//NONSGML v1.0//EN
CALSCALE:GREGORIAN
METHOD:PUBLISH
X-WR-CALNAME:Go To Girl Of Ashland
X-ORIGINAL-URL:https://gotogirlashland.com
X-WR-CALDESC:Events for Go To Girl Of Ashland
REFRESH-INTERVAL;VALUE=DURATION:PT1H
X-Robots-Tag:noindex
X-PUBLISHED-TTL:PT1H
BEGIN:VTIMEZONE
TZID:America/New_York
BEGIN:DAYLIGHT
TZOFFSETFROM:-0500
TZOFFSETTO:-0400
TZNAME:EDT
DTSTART:20240310T070000
END:DAYLIGHT
BEGIN:STANDARD
TZOFFSETFROM:-0400
TZOFFSETTO:-0500
TZNAME:EST
DTSTART:20241103T060000
END:STANDARD
BEGIN:DAYLIGHT
TZOFFSETFROM:-0500
TZOFFSETTO:-0400
TZNAME:EDT
DTSTART:20250309T070000
END:DAYLIGHT
BEGIN:STANDARD
TZOFFSETFROM:-0400
TZOFFSETTO:-0500
TZNAME:EST
DTSTART:20251102T060000
END:STANDARD
BEGIN:DAYLIGHT
TZOFFSETFROM:-0500
TZOFFSETTO:-0400
TZNAME:EDT
DTSTART:20260308T070000
END:DAYLIGHT
BEGIN:STANDARD
TZOFFSETFROM:-0400
TZOFFSETTO:-0500
TZNAME:EST
DTSTART:20261101T060000
END:STANDARD
BEGIN:DAYLIGHT
TZOFFSETFROM:-0500
TZOFFSETTO:-0400
TZNAME:EDT
DTSTART:20270314T070000
END:DAYLIGHT
BEGIN:STANDARD
TZOFFSETFROM:-0400
TZOFFSETTO:-0500
TZNAME:EST
DTSTART:20271107T060000
END:STANDARD
END:VTIMEZONE
BEGIN:VTIMEZONE
TZID:UTC
BEGIN:STANDARD
TZOFFSETFROM:+0000
TZOFFSETTO:+0000
TZNAME:UTC
DTSTART:20250101T000000
END:STANDARD
END:VTIMEZONE
BEGIN:VEVENT
DTSTART;TZID=America/New_York:20260109T220000
DTEND;TZID=America/New_York:20260109T220000
DTSTAMP:20260419T165732
CREATED:20251221T051302Z
LAST-MODIFIED:20251221T220513Z
UID:10004130-1767996000-1767996000@gotogirlashland.com
SUMMARY:Karaoke at Bullshooters
DESCRIPTION:Head to the American Legion on Saturday for the Ashland Sports Card Show. Contact Roland if you’d like to be a vendor: 419-632-4524 								\n				\n				\n				\n									\n					\n						\n									Unique Sports Cards and Collectables
URL:https://gotogirlashland.com/event/karaoke-at-bullshooters-010926/
LOCATION:Bullshooters\, 35 East Main Street\, Ashland\, OH\, 44805\, United States
CATEGORIES:Karaoke,Nightlife
ATTACH;FMTTYPE=image/jpeg:https://gotogirlashland.com/wp-content/uploads/2024/11/Karaoke-Bullshooters.jpg
END:VEVENT
BEGIN:VEVENT
DTSTART;TZID=America/New_York:20260109T170000
DTEND;TZID=America/New_York:20260109T190000
DTSTAMP:20260419T165732
CREATED:20260104T231754Z
LAST-MODIFIED:20260104T231937Z
UID:10004191-1767978000-1767985200@gotogirlashland.com
SUMMARY:Friday FunFit
DESCRIPTION:Head to the American Legion on Saturday for the Ashland Sports Card Show. Contact Roland if you’d like to be a vendor: 419-632-4524 								\n				\n				\n				\n									\n					\n						\n									Unique Sports Cards and Collectables
URL:https://gotogirlashland.com/event/friday-funfit-010926/
LOCATION:Ashland Kroc Center\, 527 E. Liberty St\, Ashland\, 44805\, United States
CATEGORIES:Family Activities,Kids,Kroc Center
ATTACH;FMTTYPE=image/jpeg:https://gotogirlashland.com/wp-content/uploads/2025/09/funfit.jpg
END:VEVENT
BEGIN:VEVENT
DTSTART;TZID=America/New_York:20260109T100000
DTEND;TZID=America/New_York:20260109T104500
DTSTAMP:20260419T165732
CREATED:20251230T054837Z
LAST-MODIFIED:20251230T055116Z
UID:10004155-1767952800-1767955500@gotogirlashland.com
SUMMARY:Story Stroll
DESCRIPTION:Head to the American Legion on Saturday for the Ashland Sports Card Show. Contact Roland if you’d like to be a vendor: 419-632-4524 								\n				\n				\n				\n									\n					\n						\n									Unique Sports Cards and Collectables
URL:https://gotogirlashland.com/event/story-stroll/
LOCATION:Davy McClure Outdoor Education Center\, 748 County Road 1754\, Ashland\, OH\, 44805\, United States
CATEGORIES:Family Activities,Kids
ATTACH;FMTTYPE=image/png:https://gotogirlashland.com/wp-content/uploads/2025/12/Untitled-design-9.png
END:VEVENT
BEGIN:VEVENT
DTSTART;TZID=UTC:20260108T190000
DTEND;TZID=UTC:20260108T210000
DTSTAMP:20260419T165732
CREATED:20251221T044819Z
LAST-MODIFIED:20251221T044819Z
UID:10004125-1767898800-1767906000@gotogirlashland.com
SUMMARY:Thursday Trivia Night
DESCRIPTION:Head to the American Legion on Saturday for the Ashland Sports Card Show. Contact Roland if you’d like to be a vendor: 419-632-4524 								\n				\n				\n				\n									\n					\n						\n									Unique Sports Cards and Collectables
URL:https://gotogirlashland.com/event/thursday-trivia-night-010826/
LOCATION:Joan’s Tavern\, 165 Union Street\, Ashland\, OH\, 44805\, United States
CATEGORIES:Nightlife,Trivia
ATTACH;FMTTYPE=image/jpeg:https://gotogirlashland.com/wp-content/uploads/2024/01/6fd46c59-c71f-432f-aa72-f7a13655df98.jpg
END:VEVENT
BEGIN:VEVENT
DTSTART;TZID=UTC:20260108T180000
DTEND;TZID=UTC:20260108T200000
DTSTAMP:20260419T165732
CREATED:20251229T062312Z
LAST-MODIFIED:20251229T063317Z
UID:10004154-1767895200-1767902400@gotogirlashland.com
SUMMARY:Open Mic Night at Goldberry
DESCRIPTION:Head to the American Legion on Saturday for the Ashland Sports Card Show. Contact Roland if you’d like to be a vendor: 419-632-4524 								\n				\n				\n				\n									\n					\n						\n									Unique Sports Cards and Collectables
URL:https://gotogirlashland.com/event/open-mic-night-at-goldberry-010826/
LOCATION:Goldberry Roasting Company\, 1262 Franklin Ave.\, Ashland\, OH\, 44805\, United States
CATEGORIES:Live Entertainment,Music
ATTACH;FMTTYPE=image/png:https://gotogirlashland.com/wp-content/uploads/2025/12/Goldberry-Open-Mic.png
END:VEVENT
BEGIN:VEVENT
DTSTART;TZID=America/New_York:20260107T190000
DTEND;TZID=America/New_York:20260107T203000
DTSTAMP:20260419T165732
CREATED:20251221T041948Z
LAST-MODIFIED:20251221T041948Z
UID:10004121-1767812400-1767817800@gotogirlashland.com
SUMMARY:Wednesday Trivia Night
DESCRIPTION:Head to the American Legion on Saturday for the Ashland Sports Card Show. Contact Roland if you’d like to be a vendor: 419-632-4524 								\n				\n				\n				\n									\n					\n						\n									Unique Sports Cards and Collectables
URL:https://gotogirlashland.com/event/wednesday-trivia-night-010726/
LOCATION:Kash Co. PourHouse (always 21+)\, 155 West Main Street\, Ashland\, OH\, 44805\, United States
CATEGORIES:Nightlife,Trivia
ATTACH;FMTTYPE=image/jpeg:https://gotogirlashland.com/wp-content/uploads/2024/04/trivia_night_2.jpg
END:VEVENT
BEGIN:VEVENT
DTSTART;TZID=America/New_York:20260106T200000
DTEND;TZID=America/New_York:20260106T200000
DTSTAMP:20260419T165732
CREATED:20251219T193329Z
LAST-MODIFIED:20260104T210307Z
UID:10004113-1767729600-1767729600@gotogirlashland.com
SUMMARY:Talent Tuesday and Karaoke
DESCRIPTION:Head to the American Legion on Saturday for the Ashland Sports Card Show. Contact Roland if you’d like to be a vendor: 419-632-4524 								\n				\n				\n				\n									\n					\n						\n									Unique Sports Cards and Collectables
URL:https://gotogirlashland.com/event/talent-tuesday-and-karaoke-010626/
LOCATION:Kash Co. PourHouse (always 21+)\, 155 West Main Street\, Ashland\, OH\, 44805\, United States
CATEGORIES:Karaoke,Nightlife
END:VEVENT
BEGIN:VEVENT
DTSTART;TZID=America/New_York:20260106T180000
DTEND;TZID=America/New_York:20260106T200000
DTSTAMP:20260419T165732
CREATED:20251219T052956Z
LAST-MODIFIED:20251220T055946Z
UID:10004110-1767722400-1767729600@gotogirlashland.com
SUMMARY:Trivia at Ohio Fire
DESCRIPTION:Head to the American Legion on Saturday for the Ashland Sports Card Show. Contact Roland if you’d like to be a vendor: 419-632-4524 								\n				\n				\n				\n									\n					\n						\n									Unique Sports Cards and Collectables
URL:https://gotogirlashland.com/event/trivia-at-ohio-fire-010626/
LOCATION:Ohio Fire\, 88 East Main Street\, Ashland\, OH\, 44805\, United States
CATEGORIES:Ashland Main Street,Community,Food & Drink,Nightlife,Trivia
ATTACH;FMTTYPE=image/jpeg:https://gotogirlashland.com/wp-content/uploads/2025/10/Ohio-Fire-Trivia.jpg
END:VEVENT
BEGIN:VEVENT
DTSTART;TZID=America/New_York:20260106T170000
DTEND;TZID=America/New_York:20260106T183000
DTSTAMP:20260419T165732
CREATED:20251229T013224Z
LAST-MODIFIED:20251229T014259Z
UID:10004153-1767718800-1767724200@gotogirlashland.com
SUMMARY:Creative Stitches
DESCRIPTION:Head to the American Legion on Saturday for the Ashland Sports Card Show. Contact Roland if you’d like to be a vendor: 419-632-4524 								\n				\n				\n				\n									\n					\n						\n									Unique Sports Cards and Collectables
URL:https://gotogirlashland.com/event/creative-stitches-010626/
LOCATION:Ashland Public Library
CATEGORIES:Art,Community,Crafts,Library
ATTACH;FMTTYPE=image/png:https://gotogirlashland.com/wp-content/uploads/2024/09/Creative-Stitches.png
END:VEVENT
BEGIN:VEVENT
DTSTART;TZID=America/New_York:20260105T193000
DTEND;TZID=America/New_York:20260105T193000
DTSTAMP:20260419T165732
CREATED:20251219T051332Z
LAST-MODIFIED:20260104T210336Z
UID:10004109-1767641400-1767641400@gotogirlashland.com
SUMMARY:Fatherhood Fire
DESCRIPTION:Head to the American Legion on Saturday for the Ashland Sports Card Show. Contact Roland if you’d like to be a vendor: 419-632-4524 								\n				\n				\n				\n									\n					\n						\n									Unique Sports Cards and Collectables
URL:https://gotogirlashland.com/event/fatherhood-fire-010526/
LOCATION:Advocates for Families\, 270 Sandusky St.\, Ashland\, OH\, 44805\, United States
CATEGORIES:Community
ATTACH;FMTTYPE=image/png:https://gotogirlashland.com/wp-content/uploads/2025/05/fatherhood-fire-1.png
END:VEVENT
BEGIN:VEVENT
DTSTART;TZID=America/New_York:20260104T200000
DTEND;TZID=America/New_York:20260104T235900
DTSTAMP:20260419T165732
CREATED:20251221T055402Z
LAST-MODIFIED:20251221T220311Z
UID:10004139-1767556800-1767571140@gotogirlashland.com
SUMMARY:Sunday Karaoke
DESCRIPTION:Head to the American Legion on Saturday for the Ashland Sports Card Show. Contact Roland if you’d like to be a vendor: 419-632-4524 								\n				\n				\n				\n									\n					\n						\n									Unique Sports Cards and Collectables
URL:https://gotogirlashland.com/event/sunday-karaoke-010426/
LOCATION:Kash Co. PourHouse (always 21+)\, 155 West Main Street\, Ashland\, OH\, 44805\, United States
CATEGORIES:Karaoke,Nightlife
ATTACH;FMTTYPE=image/jpeg:https://gotogirlashland.com/wp-content/uploads/2024/04/Karaoke.jpg
END:VEVENT
BEGIN:VEVENT
DTSTART;TZID=America/New_York:20260103T220000
DTEND;TZID=America/New_York:20260103T220000
DTSTAMP:20260419T165732
CREATED:20251221T053515Z
LAST-MODIFIED:20251221T220418Z
UID:10004134-1767477600-1767477600@gotogirlashland.com
SUMMARY:Karaoke at Bullshooters
DESCRIPTION:Head to the American Legion on Saturday for the Ashland Sports Card Show. Contact Roland if you’d like to be a vendor: 419-632-4524 								\n				\n				\n				\n									\n					\n						\n									Unique Sports Cards and Collectables
URL:https://gotogirlashland.com/event/karaoke-at-bullshooters-010326/
LOCATION:Bullshooters\, 35 East Main Street\, Ashland\, OH\, 44805\, United States
CATEGORIES:Karaoke,Nightlife
ATTACH;FMTTYPE=image/jpeg:https://gotogirlashland.com/wp-content/uploads/2024/11/Karaoke-Bullshooters.jpg
END:VEVENT
BEGIN:VEVENT
DTSTART;TZID=America/New_York:20260103T173000
DTEND;TZID=America/New_York:20260103T183000
DTSTAMP:20260419T165732
CREATED:20251229T002457Z
LAST-MODIFIED:20251229T010243Z
UID:10004152-1767461400-1767465000@gotogirlashland.com
SUMMARY:Energy Clearing 101: Foundations for Home & Self
DESCRIPTION:Head to the American Legion on Saturday for the Ashland Sports Card Show. Contact Roland if you’d like to be a vendor: 419-632-4524 								\n				\n				\n				\n									\n					\n						\n									Unique Sports Cards and Collectables
URL:https://gotogirlashland.com/event/energy-clearing-101-foundations-for-home-self-122825/
LOCATION:Chicory Witch\, 23 W. Main St.\, Ashland\, OH\, 44805\, United States
CATEGORIES:Ashland Main Street,Community,Wellness
ATTACH;FMTTYPE=image/png:https://gotogirlashland.com/wp-content/uploads/2025/12/Untitled-design-8.png
END:VEVENT
BEGIN:VEVENT
DTSTART;TZID=America/New_York:20260103T080000
DTEND;TZID=America/New_York:20260103T100000
DTSTAMP:20260419T165732
CREATED:20251220T201141Z
LAST-MODIFIED:20251220T202519Z
UID:10004120-1767427200-1767434400@gotogirlashland.com
SUMMARY:Donut Day with The Farmstead Kitchen
DESCRIPTION:Head to the American Legion on Saturday for the Ashland Sports Card Show. Contact Roland if you’d like to be a vendor: 419-632-4524 								\n				\n				\n				\n									\n					\n						\n									Unique Sports Cards and Collectables
URL:https://gotogirlashland.com/event/donut-day-with-the-farmstead-kitchen-010326/
LOCATION:Jeromesville Daily Grind\, 6 N High St\, Jeromesville\, 44840\, United States
CATEGORIES:Food & Drink,Shopping
ATTACH;FMTTYPE=image/png:https://gotogirlashland.com/wp-content/uploads/2024/06/donut-day.png
END:VEVENT
BEGIN:VEVENT
DTSTART;TZID=America/New_York:20260102T220000
DTEND;TZID=America/New_York:20260102T220000
DTSTAMP:20260419T165732
CREATED:20251221T050952Z
LAST-MODIFIED:20251221T220526Z
UID:10004129-1767391200-1767391200@gotogirlashland.com
SUMMARY:Karaoke at Bullshooters
DESCRIPTION:Head to the American Legion on Saturday for the Ashland Sports Card Show. Contact Roland if you’d like to be a vendor: 419-632-4524 								\n				\n				\n				\n									\n					\n						\n									Unique Sports Cards and Collectables
URL:https://gotogirlashland.com/event/karaoke-at-bullshooters-010226/
LOCATION:Bullshooters\, 35 East Main Street\, Ashland\, OH\, 44805\, United States
CATEGORIES:Karaoke,Nightlife
ATTACH;FMTTYPE=image/jpeg:https://gotogirlashland.com/wp-content/uploads/2024/11/Karaoke-Bullshooters.jpg
END:VEVENT
BEGIN:VEVENT
DTSTART;TZID=America/New_York:20260102T210000
DTEND;TZID=America/New_York:20260102T235900
DTSTAMP:20260419T165732
CREATED:20260102T010054Z
LAST-MODIFIED:20260115T165137Z
UID:10004171-1767387600-1767398340@gotogirlashland.com
SUMMARY:Kim & Dougie with Ed
DESCRIPTION:Head to the American Legion on Saturday for the Ashland Sports Card Show. Contact Roland if you’d like to be a vendor: 419-632-4524 								\n				\n				\n				\n									\n					\n						\n									Unique Sports Cards and Collectables
URL:https://gotogirlashland.com/event/kim-dougie-with-ed-010226/
LOCATION:Kash Co. PourHouse (always 21+)\, 155 West Main Street\, Ashland\, OH\, 44805\, United States
CATEGORIES:Live Entertainment,Music,Nightlife
ATTACH;FMTTYPE=image/jpeg:https://gotogirlashland.com/wp-content/uploads/2024/10/Kim-and-Dougie.jpg
END:VEVENT
BEGIN:VEVENT
DTSTART;TZID=America/New_York:20260102T160000
DTEND;TZID=America/New_York:20260102T180000
DTSTAMP:20260419T165732
CREATED:20251227T195707Z
LAST-MODIFIED:20251227T200028Z
UID:10004151-1767369600-1767376800@gotogirlashland.com
SUMMARY:New Year Kick-Off at the Kroc
DESCRIPTION:Head to the American Legion on Saturday for the Ashland Sports Card Show. Contact Roland if you’d like to be a vendor: 419-632-4524 								\n				\n				\n				\n									\n					\n						\n									Unique Sports Cards and Collectables
URL:https://gotogirlashland.com/event/new-year-kick-off-at-the-kroc-010226/
LOCATION:Ashland Kroc Center\, 527 E. Liberty St\, Ashland\, 44805\, United States
CATEGORIES:Community
END:VEVENT
BEGIN:VEVENT
DTSTART;TZID=America/New_York:20251231T213000
DTEND;TZID=America/New_York:20251231T213000
DTSTAMP:20260419T165732
CREATED:20251222T002723Z
LAST-MODIFIED:20251228T162149Z
UID:10004144-1767216600-1767216600@gotogirlashland.com
SUMMARY:Kobalt New Year's Eve Bash
DESCRIPTION:Head to the American Legion on Saturday for the Ashland Sports Card Show. Contact Roland if you’d like to be a vendor: 419-632-4524 								\n				\n				\n				\n									\n					\n						\n									Unique Sports Cards and Collectables
URL:https://gotogirlashland.com/event/kobalt-123125/
LOCATION:Bullshooters\, 35 East Main Street\, Ashland\, OH\, 44805\, United States
CATEGORIES:Live Entertainment,Music,Nightlife
END:VEVENT
BEGIN:VEVENT
DTSTART;TZID=America/New_York:20251231T210000
DTEND;TZID=America/New_York:20260101T001500
DTSTAMP:20260419T165732
CREATED:20251218T041803Z
LAST-MODIFIED:20251228T161632Z
UID:10004107-1767214800-1767226500@gotogirlashland.com
SUMMARY:New Year's Eve Gala with Northcoast BIG BAND
DESCRIPTION:Head to the American Legion on Saturday for the Ashland Sports Card Show. Contact Roland if you’d like to be a vendor: 419-632-4524 								\n				\n				\n				\n									\n					\n						\n									Unique Sports Cards and Collectables
URL:https://gotogirlashland.com/event/new-years-eve-gala-with-northcoast-big-band-123125/
LOCATION:Mohican Lodge and Conference Center\, 1098 Ashland Co Rd 3006\, Perrysville\, OH\, 44864\, United States
CATEGORIES:Community,Live Entertainment,Music,Nightlife
END:VEVENT
BEGIN:VEVENT
DTSTART;TZID=America/New_York:20251231T190000
DTEND;TZID=America/New_York:20260101T003000
DTSTAMP:20260419T165732
CREATED:20251227T194214Z
LAST-MODIFIED:20251228T032524Z
UID:10004150-1767207600-1767227400@gotogirlashland.com
SUMMARY:The Black & White New Year's Eve Ball - Dueling Pianos Dinner Gala
DESCRIPTION:Head to the American Legion on Saturday for the Ashland Sports Card Show. Contact Roland if you’d like to be a vendor: 419-632-4524 								\n				\n				\n				\n									\n					\n						\n									Unique Sports Cards and Collectables
URL:https://gotogirlashland.com/event/the-black-white-new-years-eve-ball/
LOCATION:Landoll’s Mohican Castle\, 561 Township Road 3352\, Loudonville\, 44842\, United States
CATEGORIES:Holiday,Live Entertainment,Music,Nightlife
END:VEVENT
END:VCALENDAR