BEGIN:VCALENDAR
VERSION:2.0
PRODID:-//Go To Girl Of Ashland - ECPv6.15.20//NONSGML v1.0//EN
CALSCALE:GREGORIAN
METHOD:PUBLISH
X-WR-CALNAME:Go To Girl Of Ashland
X-ORIGINAL-URL:https://gotogirlashland.com
X-WR-CALDESC:Events for Go To Girl Of Ashland
REFRESH-INTERVAL;VALUE=DURATION:PT1H
X-Robots-Tag:noindex
X-PUBLISHED-TTL:PT1H
BEGIN:VTIMEZONE
TZID:America/New_York
BEGIN:DAYLIGHT
TZOFFSETFROM:-0500
TZOFFSETTO:-0400
TZNAME:EDT
DTSTART:20250309T070000
END:DAYLIGHT
BEGIN:STANDARD
TZOFFSETFROM:-0400
TZOFFSETTO:-0500
TZNAME:EST
DTSTART:20251102T060000
END:STANDARD
BEGIN:DAYLIGHT
TZOFFSETFROM:-0500
TZOFFSETTO:-0400
TZNAME:EDT
DTSTART:20260308T070000
END:DAYLIGHT
BEGIN:STANDARD
TZOFFSETFROM:-0400
TZOFFSETTO:-0500
TZNAME:EST
DTSTART:20261101T060000
END:STANDARD
BEGIN:DAYLIGHT
TZOFFSETFROM:-0500
TZOFFSETTO:-0400
TZNAME:EDT
DTSTART:20270314T070000
END:DAYLIGHT
BEGIN:STANDARD
TZOFFSETFROM:-0400
TZOFFSETTO:-0500
TZNAME:EST
DTSTART:20271107T060000
END:STANDARD
END:VTIMEZONE
BEGIN:VEVENT
DTSTART;TZID=America/New_York:20260228T090000
DTEND;TZID=America/New_York:20260228T110000
DTSTAMP:20260419T105242
CREATED:20260115T051600Z
LAST-MODIFIED:20260115T051621Z
UID:10004200-1772269200-1772276400@gotogirlashland.com
SUMMARY:Bird Walk at Byers Woods
DESCRIPTION:We will begin at 9:00 AM and make our way around enjoying the sights and sounds. Dress for the weather and bring a pair of binoculars for better viewing. These walks are free\, open to the public and any ages are welcome.
URL:https://gotogirlashland.com/event/bird-walk-at-byers-woods-022826/
LOCATION:Byers Woods\, 675 County Road 1754\, Ashland\, OH\, 44805\, United States
CATEGORIES:Community,Outdoors,Running, Biking & Hiking
ATTACH;FMTTYPE=image/jpeg:https://gotogirlashland.com/wp-content/uploads/2025/04/bird-walk-byers-woods.jpg
END:VEVENT
END:VCALENDAR