BEGIN:VCALENDAR
VERSION:2.0
PRODID:-//Go To Girl Of Ashland - ECPv6.15.20//NONSGML v1.0//EN
CALSCALE:GREGORIAN
METHOD:PUBLISH
X-ORIGINAL-URL:https://gotogirlashland.com
X-WR-CALDESC:Events for Go To Girl Of Ashland
REFRESH-INTERVAL;VALUE=DURATION:PT1H
X-Robots-Tag:noindex
X-PUBLISHED-TTL:PT1H
BEGIN:VTIMEZONE
TZID:America/New_York
BEGIN:DAYLIGHT
TZOFFSETFROM:-0500
TZOFFSETTO:-0400
TZNAME:EDT
DTSTART:20250309T070000
END:DAYLIGHT
BEGIN:STANDARD
TZOFFSETFROM:-0400
TZOFFSETTO:-0500
TZNAME:EST
DTSTART:20251102T060000
END:STANDARD
BEGIN:DAYLIGHT
TZOFFSETFROM:-0500
TZOFFSETTO:-0400
TZNAME:EDT
DTSTART:20260308T070000
END:DAYLIGHT
BEGIN:STANDARD
TZOFFSETFROM:-0400
TZOFFSETTO:-0500
TZNAME:EST
DTSTART:20261101T060000
END:STANDARD
BEGIN:DAYLIGHT
TZOFFSETFROM:-0500
TZOFFSETTO:-0400
TZNAME:EDT
DTSTART:20270314T070000
END:DAYLIGHT
BEGIN:STANDARD
TZOFFSETFROM:-0400
TZOFFSETTO:-0500
TZNAME:EST
DTSTART:20271107T060000
END:STANDARD
END:VTIMEZONE
BEGIN:VEVENT
DTSTART;TZID=America/New_York:20260120T173000
DTEND;TZID=America/New_York:20260120T183000
DTSTAMP:20260419T112718
CREATED:20260102T011323Z
LAST-MODIFIED:20260102T011638Z
UID:10004172-1768930200-1768933800@gotogirlashland.com
SUMMARY:Better Read Book Discussion - The Thursday Murder Club\, by Richard Osman
DESCRIPTION:Stop by in the morning for a cup of coffee and a chat about the monthly book. Registration required 								\n				\n				\n				\n									\n					\n						\n									Register Here
URL:https://gotogirlashland.com/event/better-read-book-discussion-the-thursday-murder-club-by-richard-osman-012026/
LOCATION:Ashland Public Library
CATEGORIES:Community,Library
ATTACH;FMTTYPE=image/png:https://gotogirlashland.com/wp-content/uploads/2026/01/Better-Read-Book-Discussion.png
END:VEVENT
BEGIN:VEVENT
DTSTART;TZID=America/New_York:20260124T100000
DTEND;TZID=America/New_York:20260124T110000
DTSTAMP:20260419T112718
CREATED:20260102T020643Z
LAST-MODIFIED:20260102T021151Z
UID:10004176-1769248800-1769252400@gotogirlashland.com
SUMMARY:Coffee & Books - 'The Names' by Florence Knapp
DESCRIPTION:Stop by in the morning for a cup of coffee and a chat about the monthly book. Registration required 								\n				\n				\n				\n									\n					\n						\n									Register Here
URL:https://gotogirlashland.com/event/coffee-books-the-names-by-florence-knapp-012426/
LOCATION:Ashland Public Library
CATEGORIES:Community,Library
ATTACH;FMTTYPE=image/png:https://gotogirlashland.com/wp-content/uploads/2025/09/coffee-books.png
END:VEVENT
BEGIN:VEVENT
DTSTART;TZID=America/New_York:20260217T173000
DTEND;TZID=America/New_York:20260217T183000
DTSTAMP:20260419T112718
CREATED:20260127T034135Z
LAST-MODIFIED:20260127T035519Z
UID:10004257-1771349400-1771353000@gotogirlashland.com
SUMMARY:Better Read Book Discussion - Good Material by Dolly Alderton
DESCRIPTION:Stop by in the morning for a cup of coffee and a chat about the monthly book. Registration required 								\n				\n				\n				\n									\n					\n						\n									Register Here
URL:https://gotogirlashland.com/event/better-read-book-discussion-good-material-by-dolly-alderton-021726/
LOCATION:Ashland Public Library
CATEGORIES:Community,Library
ATTACH;FMTTYPE=image/png:https://gotogirlashland.com/wp-content/uploads/2026/01/Better-Read-Book-Discussion.png
END:VEVENT
BEGIN:VEVENT
DTSTART;TZID=America/New_York:20260221T100000
DTEND;TZID=America/New_York:20260221T110000
DTSTAMP:20260419T112718
CREATED:20260202T030340Z
LAST-MODIFIED:20260202T030626Z
UID:10004272-1771668000-1771671600@gotogirlashland.com
SUMMARY:Coffee & Books - The Book Club for Troublesome Women by Marie Bostwick
DESCRIPTION:Stop by in the morning for a cup of coffee and a chat about the monthly book. Registration required 								\n				\n				\n				\n									\n					\n						\n									Register Here
URL:https://gotogirlashland.com/event/coffee-books-the-book-club-for-troublesome-women-by-marie-bostwick-022126/
LOCATION:Ashland Public Library
CATEGORIES:Community,Library
ATTACH;FMTTYPE=image/png:https://gotogirlashland.com/wp-content/uploads/2025/09/coffee-books.png
END:VEVENT
END:VCALENDAR