BEGIN:VCALENDAR
VERSION:2.0
PRODID:-//Go To Girl Of Ashland - ECPv6.15.20//NONSGML v1.0//EN
CALSCALE:GREGORIAN
METHOD:PUBLISH
X-ORIGINAL-URL:https://gotogirlashland.com
X-WR-CALDESC:Events for Go To Girl Of Ashland
REFRESH-INTERVAL;VALUE=DURATION:PT1H
X-Robots-Tag:noindex
X-PUBLISHED-TTL:PT1H
BEGIN:VTIMEZONE
TZID:America/New_York
BEGIN:DAYLIGHT
TZOFFSETFROM:-0500
TZOFFSETTO:-0400
TZNAME:EDT
DTSTART:20250309T070000
END:DAYLIGHT
BEGIN:STANDARD
TZOFFSETFROM:-0400
TZOFFSETTO:-0500
TZNAME:EST
DTSTART:20251102T060000
END:STANDARD
BEGIN:DAYLIGHT
TZOFFSETFROM:-0500
TZOFFSETTO:-0400
TZNAME:EDT
DTSTART:20260308T070000
END:DAYLIGHT
BEGIN:STANDARD
TZOFFSETFROM:-0400
TZOFFSETTO:-0500
TZNAME:EST
DTSTART:20261101T060000
END:STANDARD
BEGIN:DAYLIGHT
TZOFFSETFROM:-0500
TZOFFSETTO:-0400
TZNAME:EDT
DTSTART:20270314T070000
END:DAYLIGHT
BEGIN:STANDARD
TZOFFSETFROM:-0400
TZOFFSETTO:-0500
TZNAME:EST
DTSTART:20271107T060000
END:STANDARD
END:VTIMEZONE
BEGIN:VEVENT
DTSTART;TZID=America/New_York:20260130T180000
DTEND;TZID=America/New_York:20260130T210000
DTSTAMP:20260419T130137
CREATED:20260129T025500Z
LAST-MODIFIED:20260129T025647Z
UID:10004262-1769796000-1769806800@gotogirlashland.com
SUMMARY:Tom's Kitchen Table
DESCRIPTION:TKT performs a range of country\, rock\, and classics\, along with several original works. 								\n				\n				\n				\n									\n					\n						\n									TKT
URL:https://gotogirlashland.com/event/toms-kitchen-table-013026/
LOCATION:Uniontown Brewing Co\, 105 West Main Street\, Ashland\, OH\, 44805\, United States
CATEGORIES:Live Entertainment,Music
ATTACH;FMTTYPE=image/jpeg:https://gotogirlashland.com/wp-content/uploads/2024/10/Toms-Kitchen-Table-Band.jpg
END:VEVENT
END:VCALENDAR