BEGIN:VCALENDAR
VERSION:2.0
PRODID:-//Go To Girl Of Ashland - ECPv6.15.20//NONSGML v1.0//EN
CALSCALE:GREGORIAN
METHOD:PUBLISH
X-WR-CALNAME:Go To Girl Of Ashland
X-ORIGINAL-URL:https://gotogirlashland.com
X-WR-CALDESC:Events for Go To Girl Of Ashland
REFRESH-INTERVAL;VALUE=DURATION:PT1H
X-Robots-Tag:noindex
X-PUBLISHED-TTL:PT1H
BEGIN:VTIMEZONE
TZID:America/New_York
BEGIN:DAYLIGHT
TZOFFSETFROM:-0500
TZOFFSETTO:-0400
TZNAME:EDT
DTSTART:20250309T070000
END:DAYLIGHT
BEGIN:STANDARD
TZOFFSETFROM:-0400
TZOFFSETTO:-0500
TZNAME:EST
DTSTART:20251102T060000
END:STANDARD
BEGIN:DAYLIGHT
TZOFFSETFROM:-0500
TZOFFSETTO:-0400
TZNAME:EDT
DTSTART:20260308T070000
END:DAYLIGHT
BEGIN:STANDARD
TZOFFSETFROM:-0400
TZOFFSETTO:-0500
TZNAME:EST
DTSTART:20261101T060000
END:STANDARD
BEGIN:DAYLIGHT
TZOFFSETFROM:-0500
TZOFFSETTO:-0400
TZNAME:EDT
DTSTART:20270314T070000
END:DAYLIGHT
BEGIN:STANDARD
TZOFFSETFROM:-0400
TZOFFSETTO:-0500
TZNAME:EST
DTSTART:20271107T060000
END:STANDARD
END:VTIMEZONE
BEGIN:VEVENT
DTSTART;TZID=America/New_York:20260207T100000
DTEND;TZID=America/New_York:20260207T120000
DTSTAMP:20260419T131147
CREATED:20260121T045026Z
LAST-MODIFIED:20260121T045247Z
UID:10004236-1770458400-1770465600@gotogirlashland.com
SUMMARY:Paint & Sip
DESCRIPTION:Enjoy a fun\, guided painting experience with local artist\, Sarah Toby\, in a welcoming environment where you can unwind\, get creative\, and socialize while enjoying coffee/tea! Registration is required on our website and limited to 15 participants. @ Davy McClure Outdoor Education Center. 								\n				\n				\n				\n									\n					\n						\n									Register Here
URL:https://gotogirlashland.com/event/paint-sip-020726/
LOCATION:Davy McClure Outdoor Education Center\, 748 County Road 1754\, Ashland\, OH\, 44805\, United States
CATEGORIES:Art,Community,Food & Drink
ATTACH;FMTTYPE=image/png:https://gotogirlashland.com/wp-content/uploads/2026/01/Untitled-design-20.png
END:VEVENT
END:VCALENDAR