BEGIN:VCALENDAR
VERSION:2.0
PRODID:-//Go To Girl Of Ashland - ECPv6.15.20//NONSGML v1.0//EN
CALSCALE:GREGORIAN
METHOD:PUBLISH
X-WR-CALNAME:Go To Girl Of Ashland
X-ORIGINAL-URL:https://gotogirlashland.com
X-WR-CALDESC:Events for Go To Girl Of Ashland
REFRESH-INTERVAL;VALUE=DURATION:PT1H
X-Robots-Tag:noindex
X-PUBLISHED-TTL:PT1H
BEGIN:VTIMEZONE
TZID:America/New_York
BEGIN:DAYLIGHT
TZOFFSETFROM:-0500
TZOFFSETTO:-0400
TZNAME:EDT
DTSTART:20250309T070000
END:DAYLIGHT
BEGIN:STANDARD
TZOFFSETFROM:-0400
TZOFFSETTO:-0500
TZNAME:EST
DTSTART:20251102T060000
END:STANDARD
BEGIN:DAYLIGHT
TZOFFSETFROM:-0500
TZOFFSETTO:-0400
TZNAME:EDT
DTSTART:20260308T070000
END:DAYLIGHT
BEGIN:STANDARD
TZOFFSETFROM:-0400
TZOFFSETTO:-0500
TZNAME:EST
DTSTART:20261101T060000
END:STANDARD
BEGIN:DAYLIGHT
TZOFFSETFROM:-0500
TZOFFSETTO:-0400
TZNAME:EDT
DTSTART:20270314T070000
END:DAYLIGHT
BEGIN:STANDARD
TZOFFSETFROM:-0400
TZOFFSETTO:-0500
TZNAME:EST
DTSTART:20271107T060000
END:STANDARD
END:VTIMEZONE
BEGIN:VEVENT
DTSTART;TZID=America/New_York:20260213T180000
DTEND;TZID=America/New_York:20260213T180000
DTSTAMP:20260419T181536
CREATED:20260125T020834Z
LAST-MODIFIED:20260125T021235Z
UID:10004239-1771005600-1771005600@gotogirlashland.com
SUMMARY:Annual Chili Cookoff and Quarter Auction
DESCRIPTION:Ashland Cancer Crusaders will be hosting the annual chili cook off and quarter auction on Friday Feb. 13th 2026 ! Chili cook off is open to the public. If you think you have the best chili around bring it and see if you can take home first place. Make sure to bring your quarters and your appetite! Doors open at 6pm for chili and auction starts at 7 pm! 								\n				\n				\n				\n									\n					\n						\n						\n							\n									Register Here
URL:https://gotogirlashland.com/event/annual-chili-cookoff-and-quarter-auction-021326/
LOCATION:Ashland County Fairgrounds\, 2042 Claremont Avenue\, Ashland\, OH\, 44805\, United States
CATEGORIES:Community,Fairgrounds,Food & Drink,Fundraising
ATTACH;FMTTYPE=image/png:https://gotogirlashland.com/wp-content/uploads/2026/01/Untitled-design-22.png
END:VEVENT
END:VCALENDAR