BEGIN:VCALENDAR
VERSION:2.0
PRODID:-//Go To Girl Of Ashland - ECPv6.15.20//NONSGML v1.0//EN
CALSCALE:GREGORIAN
METHOD:PUBLISH
X-WR-CALNAME:Go To Girl Of Ashland
X-ORIGINAL-URL:https://gotogirlashland.com
X-WR-CALDESC:Events for Go To Girl Of Ashland
REFRESH-INTERVAL;VALUE=DURATION:PT1H
X-Robots-Tag:noindex
X-PUBLISHED-TTL:PT1H
BEGIN:VTIMEZONE
TZID:America/New_York
BEGIN:DAYLIGHT
TZOFFSETFROM:-0500
TZOFFSETTO:-0400
TZNAME:EDT
DTSTART:20250309T070000
END:DAYLIGHT
BEGIN:STANDARD
TZOFFSETFROM:-0400
TZOFFSETTO:-0500
TZNAME:EST
DTSTART:20251102T060000
END:STANDARD
BEGIN:DAYLIGHT
TZOFFSETFROM:-0500
TZOFFSETTO:-0400
TZNAME:EDT
DTSTART:20260308T070000
END:DAYLIGHT
BEGIN:STANDARD
TZOFFSETFROM:-0400
TZOFFSETTO:-0500
TZNAME:EST
DTSTART:20261101T060000
END:STANDARD
BEGIN:DAYLIGHT
TZOFFSETFROM:-0500
TZOFFSETTO:-0400
TZNAME:EDT
DTSTART:20270314T070000
END:DAYLIGHT
BEGIN:STANDARD
TZOFFSETFROM:-0400
TZOFFSETTO:-0500
TZNAME:EST
DTSTART:20271107T060000
END:STANDARD
END:VTIMEZONE
BEGIN:VEVENT
DTSTART;TZID=America/New_York:20260116T170000
DTEND;TZID=America/New_York:20260116T190000
DTSTAMP:20260419T124401
CREATED:20260104T232536Z
LAST-MODIFIED:20260104T232840Z
UID:10004192-1768582800-1768590000@gotogirlashland.com
SUMMARY:Family Fun Night
DESCRIPTION:Bring the whole family to The Ashland Kroc Center and enjoy a night out together! We will offer a variety of activities each month which may include laser tag\, bounce houses\, the LU interactive system\, games and crafts\, karaoke\, etc. Members – Free; Non-Members – $7 per person 								\n				\n				\n				\n									\n					\n						\n									Kroc Center
URL:https://gotogirlashland.com/event/family-fun-night-011626/
LOCATION:Ashland Kroc Center\, 527 E. Liberty St\, Ashland\, 44805\, United States
CATEGORIES:Family Activities,Kids,Kroc Center
ATTACH;FMTTYPE=image/jpeg:https://gotogirlashland.com/wp-content/uploads/2025/09/kroc-family-night.jpg
END:VEVENT
BEGIN:VEVENT
DTSTART;TZID=America/New_York:20260205T170000
DTEND;TZID=America/New_York:20260205T190000
DTSTAMP:20260419T124401
CREATED:20260121T040557Z
LAST-MODIFIED:20260121T041009Z
UID:10004232-1770310800-1770318000@gotogirlashland.com
SUMMARY:Family Fun Night
DESCRIPTION:Bring the whole family to The Ashland Kroc Center and enjoy a night out together! We will offer a variety of activities each month which may include laser tag\, bounce houses\, the LU interactive system\, games and crafts\, karaoke\, etc. Members – Free; Non-Members – $7 per person 								\n				\n				\n				\n									\n					\n						\n									Kroc Center
URL:https://gotogirlashland.com/event/family-fun-night/
LOCATION:Ashland Kroc Center\, 527 E. Liberty St\, Ashland\, 44805\, United States
CATEGORIES:Family Activities,Kids,Kroc Center
ATTACH;FMTTYPE=image/jpeg:https://gotogirlashland.com/wp-content/uploads/2025/09/kroc-family-night.jpg
END:VEVENT
BEGIN:VEVENT
DTSTART;TZID=America/New_York:20260220T170000
DTEND;TZID=America/New_York:20260220T190000
DTSTAMP:20260419T124401
CREATED:20260202T020209Z
LAST-MODIFIED:20260202T020401Z
UID:10004266-1771606800-1771614000@gotogirlashland.com
SUMMARY:Family Fun Night
DESCRIPTION:Bring the whole family to The Ashland Kroc Center and enjoy a night out together! We will offer a variety of activities each month which may include laser tag\, bounce houses\, the LU interactive system\, games and crafts\, karaoke\, etc. Members – Free; Non-Members – $7 per person 								\n				\n				\n				\n									\n					\n						\n									Kroc Center
URL:https://gotogirlashland.com/event/family-fun-night-022026/
LOCATION:Ashland Kroc Center\, 527 E. Liberty St\, Ashland\, 44805\, United States
CATEGORIES:Family Activities,Kids,Kroc Center
ATTACH;FMTTYPE=image/jpeg:https://gotogirlashland.com/wp-content/uploads/2025/09/kroc-family-night.jpg
END:VEVENT
END:VCALENDAR